BEGIN:VCALENDAR
VERSION:2.0
PRODID:-//kirjastotfi/procal//NONSGML v1.0//EN
BEGIN:VEVENT
DTSTART:20260325T120000
DTEND:20260325T150000
SUMMARY:Buustia osallisuuden edistämiseen, osa 2
DESCRIPTION:<h2>Buustia osallisuuden edistämiseen, osa 2</h2><p>Kahden kerran etäkoulutuskokonaisuus tarjoaa kirjastoalan ammattilaisille tietoa, taitoa ja inspiraatiota osallisuuden edistämiseen omassa työssä. Tavoitteena on antaa valmiudet soveltaa osallisuuden periaatteita ja käytännönläheisiä työkaluja omaan työarkeen.</p><p>Koulutus järjestetään etänä Teamsissä kahtena eri päivänä.</p><h3>Osa 2: 25.3.2026 klo 12.00–15.00</h3><ul><li>Turvallisempien tilojen merkitys osallisuustyössä&nbsp; – alustus ja pohdinta</li><li>Kirjastot tulevaisuusosallisuuden edistäjinä&nbsp; – alustus ja pohdinta</li></ul><p>&nbsp;</p><h3>Valitse sinulle sopivin osallistumisen tapa:</h3><p>Kokonaisuus koostuu inspiroivista alustuksista ja pohdintaosioista. Voit valita sinulle sopivan osallistumistavan:</p><ul><li>Voit osallistua molempiin tai vain toiseen kertaan.</li><li>Voit kuunnella alustukset reaaliajassa.</li><li>Alustuksia seuraaviin pohdintaosioihin voi osallistua aktiivisesti pienryhmäkeskusteluissa tai pohtia teemoja itsenäisesti.</li><li>Koulutusten alustuksista tehdään tallenteet, jotka ovat katsottavissa kahden viikon ajan koulutuskerran jälkeen.</li></ul><p>Koulutus on tarkoitettu ensisijaisesti Kainuun ja Pohjois-Pohjanmaan yleisten kirjastojen työntekijöille, mutta myös muut kirjastolaiset ovat tervetulleita mukaan.</p><p><a href="https://uusi.kuntapalvelut.fi/oulunkoulutuskalenteri/fi/course/5232/?expiry=2026-03-25T21%3A59%3A59.999Z&amp;reqid=5e588175-257a-422e-8abe-111103bf9735&amp;unlistedid=5232&amp;hmac=6f31685ab725199b069fd114e2f10e3f076cc24060d855a5129a198a05c6878e">Ilmoittaudu tästä</a> 24.3.2026 mennessä.<br>&nbsp;</p>
LOCATION:Teams
END:VEVENT
END:VCALENDAR