BEGIN:VCALENDAR
VERSION:2.0
PRODID:-//kirjastotfi/procal//NONSGML v1.0//EN
BEGIN:VEVENT
DTSTART:20260217T123000
DTEND:20260217T153000
SUMMARY:Kirjastojärjestelmä haltuun: Tietuelukutaitoa ja aineistorahan seurantaa
DESCRIPTION:<p><strong>Kirjastojärjestelmä haltuun -koulutukset tulevat taas! Aurora Gold -kirjastojärjestelmän käyttöä tukevat tilaisuudet tutustuttavat kirjastojärjestelmän eri ominaisuuksiin asiakaspalvelussa.&nbsp;</strong></p><p>Tässä tilaisuudessa keskitytään tietuelukutaitoon ja aineistohankintojen seurantaan kirjastojärjestelmästä. Koulutuksen vetävät Tampereen kaupunginkirjaston omat työntekijät. Tilaisuus on tarkoitettu sekä uusille että kokeneemmille kirjastolaisille. Osioissa käsitellään kirjastojen asiakaspalvelussa tarvittavaa käytännön osaamista sekä esimerkkejä erilaisista Aurora Gold -kirjastojärjestelmän käytöstä.</p><h2><strong>Aika, paikka ja ilmoittautuminen</strong></h2><p><strong>Kirjastojärjestelmä haltuun: Tietuelukutaitoa ja aineistorahan seurantaa</strong><br><strong>Ti 17.2.2026 klo 12.30-15.30</strong><br><strong>Teams ja tallenne</strong></p><p><a href="https://elomake.tampere.fi/lomakkeet/31884/lomake.html">Ilmoittaudu mukaan oheisella lomakkeella 8.2. mennessä.&nbsp;</a></p><p>Esitysten materiaalit pääset lataamaan oheisesta materiaalikansiosta.</p><p>Puheenvuorojen tallenteet tulevat katsottavaksi tilaisuuden jälkeen.</p><h2><strong>Ohjelma</strong></h2><p>Klo 12.30–13.45 Tietuelukutaitoa /&nbsp;<strong>Ilona Heinonen</strong>&nbsp;ja&nbsp;<strong>Petra Unkila</strong>, kirjastonhoitajat (Tampereen kaupunginkirjasto)</p><p>Klo 13.45–14.00 Tauko</p><p>Klo 14.00–15.30 Aineistohankintojen seuranta /&nbsp;<strong>Anni Aalto</strong>, kirjastonhoitaja (Tampereen kaupunginkirjasto)</p><h2><strong>Lisätiedot</strong></h2><p>Koordinaattori Juliaana Grahn<br>040 800 7828 /&nbsp;Juliaana.grahn(a)tampere.fi</p><p>Koordinaattori Pasi Kangas<br>040 800 7821 / pasi.kangas(a)tampere.fi</p><p>Koordinaattori Kaisa Palomäki<br>040 659 3021 / kaisa.palomaki(a)tampere.fi</p><p><em>Tilaisuuden järjestää Tampereen kaupunginkirjasto. Tampereen kaupunginkirjastolla on alueellinen kehittämistehtävä Pirkanmaan ja Keski-Suomen alueella. Kuvat ja tunnelmat somessa, käytä tunnistetta: #akepike.</em></p>
LOCATION:Teams ja tallenteet
END:VEVENT
END:VCALENDAR