BEGIN:VCALENDAR
VERSION:2.0
PRODID:-//kirjastotfi/procal//NONSGML v1.0//EN
BEGIN:VEVENT
DTSTART:20260210T093000
DTEND:20260210T104500
SUMMARY:Erten etävinkit: Pelejä ja uutisia - mediataitovinkkejä kirjastoille
DESCRIPTION:<p>Erten mediataitoviikon perinteisillä etävinkeillä paneudutaan tällä kertaa erityisesti pelien maailmaan. Mediaohjaaja Ville Jolanki kertoo, miten ja mitkä erilaiset pelit voivat toimia oppimisen tukena ja puhuu myös pelikasvatuksesta.&nbsp; Lisäksi Mediakasvatusseuran asiantuntija Johannes Repo esittelee monipuolista mediakasvatusmateriaalia, joka johdattaa nuoria (ja aikuisia) luotettavan tiedon tunnistamiseen.</p><p><strong>OHJELMA</strong></p><p>klo 9.30–10.00<br><strong>Pelit oppimisen tukena</strong><br>Mediaohjaaja Ville Jolanki, Lahden kaupunginkirjasto</p><p>klo 10.00–10.10<br>Kysymyksiä ja keskustelua peleistä</p><p>klo 10.10–10.30<br><strong>Uutistenlukua eri mediamaailmoissa -materiaali kirjastoille</strong><br>Mediakasvatuksen ja viestinnän asiantuntija Johannes Repo, Mediakasvatusseura&nbsp;</p><p>klo 10.30–10.45<br>Kysymyksiä, keskustelua ja tilaisuuden lopetus<br>&nbsp;</p><p><a href="https://link.webropolsurveys.com/EP/8080A0A76D1F71CE"><strong>Ilmoittaudu mukaan tästä linkistä!</strong></a></p><p><em>Webinaari tallennetaan ja linkki tallenteeseen lähetetään kaikille tapahtumapäivään mennessä ilmoittautuneille. Tallenne on katsottavissa 12 päivän ajan. Pidätämme oikeuden ohjelmamuutoksiin.</em></p>
LOCATION:Teams
END:VEVENT
END:VCALENDAR