BEGIN:VCALENDAR
VERSION:2.0
PRODID:-//kirjastotfi/procal//NONSGML v1.0//EN
BEGIN:VEVENT
DTSTART:20260210T090000
DTEND:20260210T120000
SUMMARY:Osallisuutta ja demokratiaa kirjastoissa
DESCRIPTION:<p>Mahdollisuudet osallisuuteen ja osallisuuden kokemuksiin ovat merkityksellisen elämän tärkeitä rakennuspalikoita. Demokratialla on mielenkiintoinen suhde osallisuuteen, sillä yhtäältä kansanvaltainen yhteiskuntajärjestys ei voi toteutua ilman osallisuutta, ja samaan aikaan demokratian käytännöt tuottavat erilaisia osallisuuden prosesseja ja tiloja. Kirjastot ovat tärkeitä toimijoita sekä osallisuuden että demokratian vahvistamisessa, olipa kyseessä fyysiset tilat, kirjaston tarjoamat aineistot tai inhimilliset kohtaamiset ja keskustelut. Lupa- ja valvontaviraston kirjastotoimen webinaarissa kokoonnutaan tutkimaan näitä asioita yhdessä – sekä teoriassa että käytännössä.</p><p><strong>Ohjelma</strong></p><p>9.00&nbsp;&nbsp;&nbsp;&nbsp;&nbsp;&nbsp;&nbsp;&nbsp;&nbsp;&nbsp;&nbsp;&nbsp;&nbsp;&nbsp;&nbsp;&nbsp;&nbsp;&nbsp;&nbsp; Tilaisuuden avaus<br>&nbsp;&nbsp;&nbsp;&nbsp;&nbsp;&nbsp;&nbsp;&nbsp;&nbsp;&nbsp;&nbsp;&nbsp;&nbsp;&nbsp;&nbsp;&nbsp;&nbsp;&nbsp;&nbsp;&nbsp;&nbsp;&nbsp;&nbsp;&nbsp;&nbsp;&nbsp;&nbsp;&nbsp; <em>Mika Mustikkamäki</em>, Lupa- ja valvontavirasto<br>9.05&nbsp;&nbsp;&nbsp;&nbsp;&nbsp;&nbsp;&nbsp;&nbsp;&nbsp;&nbsp;&nbsp;&nbsp;&nbsp;&nbsp;&nbsp;&nbsp;&nbsp;&nbsp;&nbsp; Kohtaamisten merkitys osallisuuden luomisessa<br>&nbsp;&nbsp;&nbsp;&nbsp;&nbsp;&nbsp;&nbsp;&nbsp;&nbsp;&nbsp;&nbsp;&nbsp;&nbsp;&nbsp;&nbsp;&nbsp;&nbsp;&nbsp;&nbsp;&nbsp;&nbsp;&nbsp;&nbsp;&nbsp;&nbsp;&nbsp;&nbsp;&nbsp; <em>Anna-Maria Isola</em>, Terveyden ja hyvinvoinnin laitos<br>9.40&nbsp;&nbsp;&nbsp;&nbsp;&nbsp;&nbsp;&nbsp;&nbsp;&nbsp;&nbsp;&nbsp;&nbsp;&nbsp;&nbsp;&nbsp;&nbsp;&nbsp;&nbsp;&nbsp; Kirjastot demokratian tiloina?<br>&nbsp;&nbsp;&nbsp;&nbsp;&nbsp;&nbsp;&nbsp;&nbsp;&nbsp;&nbsp;&nbsp;&nbsp;&nbsp;&nbsp;&nbsp;&nbsp;&nbsp;&nbsp;&nbsp;&nbsp;&nbsp;&nbsp;&nbsp;&nbsp;&nbsp;&nbsp;&nbsp;&nbsp; <em>Teppo Eskelinen</em>, Itä-Suomen yliopisto<br>10.15&nbsp;&nbsp;&nbsp;&nbsp;&nbsp;&nbsp;&nbsp;&nbsp;&nbsp;&nbsp;&nbsp;&nbsp;&nbsp;&nbsp;&nbsp;&nbsp; Tauko<br>10.25&nbsp;&nbsp;&nbsp;&nbsp;&nbsp;&nbsp;&nbsp;&nbsp;&nbsp;&nbsp;&nbsp;&nbsp;&nbsp;&nbsp;&nbsp;&nbsp; Demokratia- ja osallisuustyö Botkyrkan kirjastoissa<br>&nbsp;&nbsp;&nbsp;&nbsp;&nbsp;&nbsp;&nbsp;&nbsp;&nbsp;&nbsp;&nbsp;&nbsp;&nbsp;&nbsp;&nbsp;&nbsp;&nbsp;&nbsp;&nbsp;&nbsp;&nbsp;&nbsp;&nbsp;&nbsp;&nbsp;&nbsp;&nbsp;&nbsp; <em>Malla-Reetta Puolitaival</em>, Botkyrka kommun<br>10.45&nbsp;&nbsp;&nbsp;&nbsp;&nbsp;&nbsp;&nbsp;&nbsp;&nbsp;&nbsp;&nbsp;&nbsp;&nbsp;&nbsp;&nbsp;&nbsp; Älä jää lammen rannalle – osallisuus lähipalvelujen kehittämisessä<br>&nbsp;&nbsp;&nbsp;&nbsp;&nbsp;&nbsp;&nbsp;&nbsp;&nbsp;&nbsp;&nbsp;&nbsp;&nbsp;&nbsp;&nbsp;&nbsp;&nbsp;&nbsp;&nbsp;&nbsp;&nbsp;&nbsp;&nbsp;&nbsp;&nbsp;&nbsp;&nbsp;&nbsp; <em>Laura Herva</em>, Rovaniemen kaupunginkirjasto<br>11.00&nbsp;&nbsp;&nbsp;&nbsp;&nbsp;&nbsp;&nbsp;&nbsp;&nbsp;&nbsp;&nbsp;&nbsp;&nbsp;&nbsp;&nbsp;&nbsp; Kirjastojen yhteiskunnallinen merkitys väestön arvioimana&nbsp;<br>&nbsp;&nbsp;&nbsp;&nbsp;&nbsp;&nbsp;&nbsp;&nbsp;&nbsp;&nbsp;&nbsp;&nbsp;&nbsp;&nbsp;&nbsp;&nbsp;&nbsp;&nbsp;&nbsp;&nbsp;&nbsp;&nbsp;&nbsp;&nbsp;&nbsp;&nbsp;&nbsp;&nbsp; <em>Satu Ihanamäki</em>, Lupa- ja valvontavirasto<br>11.15&nbsp;&nbsp;&nbsp;&nbsp;&nbsp;&nbsp;&nbsp;&nbsp;&nbsp;&nbsp;&nbsp;&nbsp;&nbsp;&nbsp;&nbsp;&nbsp; Ohjattua pienryhmäkeskustelua Teamsissa<br>11.45&nbsp;&nbsp;&nbsp;&nbsp;&nbsp;&nbsp;&nbsp;&nbsp;&nbsp;&nbsp;&nbsp;&nbsp;&nbsp;&nbsp;&nbsp;&nbsp; Keskustelujen purku ja tilaisuuden päättäminen</p><p>Tilaisuus on maksuton. Muutokset ohjelmaan ovat mahdollisia. Tilaisuus Teamsissa. Tilaisuus tallennetaan ja tallenne lähetetään ilmoittautuneille.&nbsp;</p>
LOCATION:webinaari
END:VEVENT
END:VCALENDAR