BEGIN:VCALENDAR
VERSION:2.0
PRODID:-//kirjastotfi/procal//NONSGML v1.0//EN
BEGIN:VEVENT
DTSTART:20260128T130000
DTEND:20260128T143000
SUMMARY:Tapahtumatuotanto kirjastossa, osa 1
DESCRIPTION:<p>Aloitamme tammikuussa 2026 kolmen tapaamisen sarjan, jonka aikana tutustutaan kirjastojen tapahtumatuotantoon eri näkökulmista, Tapahtumatuotanto kirjastossa ‑Liboppi-kurssin sisältöjä seuraillen. Jokaisessa tapaamisessa on mukana puhujavieras, ja pääset pohtimaan kurssilla esiteltyjä teemoja. Tapaamiset toteutetaan Teams-etäyhteydellä.&nbsp;</p><p>Ensimmäisessä tapaamisessa kuullaan esittely Lahden kaupunginkirjaston uudistuneista tapahtumalinjauksista.</p><p>Voit osallistua oman aikataulusi mukaan niihin tapaamisiin, joihin pääset. Jokaiselle kerralle on merkitty, mihin Liboppi-kurssin osioon tapaaminen liittyy, joten voit tutustua niihin halutessasi jo ennakkoon. Mukaan voi tulla myös, vaikket olisi vielä ehtinyt tutustua kurssin sisältöihin, alustus ja yhteinen keskustelu avaavat uusia näkökulmia.&nbsp;&nbsp; &nbsp;</p><h2><strong>Tapaamisien ajankohdat, teemat ja alustajat&nbsp;</strong></h2><h3><strong>Ke 28.1.2026 klo 13–14.30 — 1. tapaaminen&nbsp;</strong></h3><p><strong>Vieraana:</strong> palvelupäällikkö <strong>Terhi Lehti</strong> esittelee Lahden kaupunginkirjaston vuonna 2025 uudistettuja tapahtumalinjauksia.&nbsp;</p><p>Voit halutessasi tutustua Liboppi-kurssin osioihin:&nbsp;</p><ul><li>Tapahtumatuotanto ja kohderyhmä</li><li>Tapahtumien muodot ja tavoitteet kirjastossa&nbsp;</li></ul><h3><strong>Ke 18.2.2026 klo 13–14.30 — 2. tapaaminen</strong></h3><p><strong>Vieraana:</strong> <strong>Pauliina Tuomela</strong> Lahden kaupunginkirjastosta esittelee Game Över ‑pelitapahtuman suunnittelua ja toteutusta.</p><p>Voit halutessasi tutustua&nbsp;Liboppi-kurssin osioihin:&nbsp;</p><ul><li>Tapahtumasuunnittelu ja tehtävät tapahtuman aikana</li><li>Tapahtumien markkinointi ja tiedottaminen&nbsp;</li></ul><h3><strong>&nbsp;Ke 18.3.2026 klo 13–14.30 — 3. tapaaminen</strong></h3><p><strong>Vieraana:</strong> <strong>Sanna&nbsp;Korkelainen</strong>, <strong>Niina Bruun</strong> ja&nbsp;<strong>Liisa Kilpiäinen</strong> Espoon kaupunginkirjastosta käsittelevät mm. seuraavia teemoja:</p><ul><li>Espoon kaupunginkirjaston prosessirakenne, tapahtumatoiminta osana&nbsp;sitä</li><li>Kirjastolaki tapahtumatuotannon perustana</li><li>Miksi matalan kynnyksen kulttuuritapahtumat ovat niin tärkeitä?</li><li>Organisoitu vapaaehtoistyö kirjastossa.&nbsp; &nbsp;</li></ul><p>Voit halutessasi tutustua&nbsp;Liboppi-kurssin osioihin:&nbsp;</p><ul><li>Mitä tapahtuu tapahtuman jälkeen?</li><li>Dos and Dont´s&nbsp;</li></ul><h2><strong>Kohderyhmä ja ilmoittautuminen&nbsp;</strong></h2><p>Tapaamiset on tarkoitettu kaikille tapahtumien parissa työskenteleville kirjastotyöntekijöille. Mukaan voi ilmoittautua myös Lahden AKE-alueen ulkopuolelta.&nbsp;</p><p><a href="https://link.webropolsurveys.com/EP/BBF3AF3E6AA28E5C">Ilmoittautumalla saat Teams-kokouskutsun kaikkiin tapaamisiin.</a></p>
LOCATION:Teams
END:VEVENT
END:VCALENDAR