BEGIN:VCALENDAR
VERSION:2.0
PRODID:-//kirjastotfi/procal//NONSGML v1.0//EN
BEGIN:VEVENT
DTSTART:20260304T090000
DTEND:20260304T120000
SUMMARY:Tekoälyn uudet tuulet
DESCRIPTION:<p>AKE Porvoo ja Helmet-kirjastojen seudullinen koulutusryhmä Sedu järjestävät yhteistyössä tekoälyaiheisen webinaarin.</p><p>Aamun avaa digipedagoginen asiantuntija ja kouluttaja <strong>Matleena Laakso</strong>. Hän pureutuu puheenvuorossaan kirjastoammattilaisille tärkeään tekoälylukutaitoon sekä tekoälyyn ekologisesta näkökulmasta. Lisäksi hän kertoo, mitä on tällä hetkellä pinnalla tekoälymaailmassa.</p><p>Tauon jälkeen Kotkan kirjastotoimenjohtaja <strong>Mikko Vainio </strong>esittelee Kyyti-kirjastojen monikielistä chat-palvelua, joka toimii itsenäisesti tekoälyn varassa. Chatbot on kirjastojärjestelmän kautta tietoinen ja ajan tasalla kirjastojen tarjonnasta ja osaa myös suositella aineistoja lainahistorian perusteella.</p><p>Kolmantena aiheena webinaarissa on senioreille järjestetyt tekoälytyöpajat, joita on toteutettu Oodissa vuodesta 2024 saakka. Ne ovat matalan kynnyksen työpajoja, joissa keskitytään käytännön harjoituksiin, mutta käydään läpi myös tekoälyn edut, haitat ja ohjataan vastuulliseen käyttöön. Työpajoista kertoo johtava mediatyöntekijä <strong>Jukka Montonen</strong>.</p><h2>Ohjelma</h2><p>9–10.30 Tekoälyn uudet tuulet. Matleena Laakso, kouluttaja<br>10.30–10.45 Tauko<br>10.45–11.30 Kyyti-kirjastojen tekoälypohjainen chatbot. Mikko Vainio, kirjastotoimenjohtaja, Kotkan kaupunginkirjasto<br>11.30–12 Tekoälyä senioreille – Esittely Oodissa järjestetyistä tekoälytyöpajoista. Jukka Montonen, johtava mediatyöntekijä, Helsingin kaupunginkirjasto</p><h2>Tuleeko tallenne?</h2><p>Ainoastaan Matleena Laakson esitys tallennetaan.</p><h2>Kenelle?</h2><p>Webinaari on suunnattu kaikille, joita kiinnostaa tekoälyn hyödyntäminen kirjastomaailmassa. Tekoälyn perusteita ei käydä webinaarissa läpi. Koulutus on suunnattu ensisijaisesti Uudenmaan yleisten kirjastojen työntekijöille, mutta mukaan voi liittyä myös muilta alueilta. Voit myös tilata pelkän tallenteen Matleena Laakson esityksestä.</p><p><a href="https://link.webropolsurveys.com/EP/73A1575E43C03DB4"><strong>Ilmoittaudu mukaan 27.2. mennessä tällä Webropol-lomakkeella</strong></a></p><h2>Lisätietoja</h2><p>Emma-Lotta Tynkkynen<br>Johtava pedagoginen informaatikko (va.)<br>emmalotta.tynkkynen@hel.fi<br>+35840 1780 495</p><p>Elina Karioja<br>Informaatikko<br>elina.karioja@porvoo.fi<br>+358 40 610 2218</p>
LOCATION:Teams
END:VEVENT
END:VCALENDAR