BEGIN:VCALENDAR
VERSION:2.0
PRODID:-//kirjastotfi/procal//NONSGML v1.0//EN
BEGIN:VEVENT
DTSTART:20260213T130000
DTEND:20260213T133000
SUMMARY:Kirjastoautovartti: Tallinnan kirjastoauto
DESCRIPTION:<p>Helmikuun kirjastoautovartti vie maailmalle, kun Tallinna Keskraamatukogun kirjastoautotoiminnasta vastaava asiantuntija <strong>Annika Marsh</strong> esittelee meille Tallinnan uuden Katariina Jee kirjastoauton. Tässä Kiitokorin vuonna 2024 toimittamassa autossa on panostettu muun muassa ympäristöystävällisiin ratkaisuihin. Tule tutustumaan autoon ja kuulemaan mitä kirjastoauton toimintaan kuuluu Tallinnassa. Huomioi että puheenvuoro on englanninkielinen.</p><h2><strong>Mikä kirjastoautovartti?</strong></h2><p>Kirjastoautoissa tehdään vaikuttavaa koko väestön lukutaitotyötä sekä lasten ja nuorten kirjastotyötä. Kirjastoautot huolehtivat osaltaan kirjastopalveluiden saavutettavuudesta, mikä on kirjattu myös hallitusohjelmaan. Kirjastoautovarteissa nostetaan esille kirjastoautojen tärkeys osana saavutettavia kirjastopalveluita sekä tarjotaan verkostoitumismahdollisuuksia kirjastoautoihin liittyvissä teemoissa.&nbsp;</p><p>Sisällöt toteutetaan yhdessä kirjastoautotyötä tekevien, eri puolilta Suomea tulevien ammattilaisten kanssa. Kokonaisuutta on suunniteltu yhteistyössä AKE-kirjastojen sekä Kirjastoseuran kirjastoautotyöryhmän ja LVV:n kirjastotoimen kanssa. Sisällöt kootaan katsottavaksi Kirjastokaistalle.</p><h2><strong>Kohderyhmä</strong></h2><p>Kirjastoautovartit on tarkoitettu kirjastoautojen henkilökunnalle sekä kaikille aiheesta kiinnostuneille kirjastojen työntekijöille ja viranhaltijoille, jotka haluavat kehittää kirjastoautotoimintaa ja kirjastopalveluiden saavutettavuutta. Oppimistuokiot tarjoavat mahdollisuuksia vertaisoppimiseen ja kokemusten jakamiseen.</p><p>Tilaisuus tallenetaan</p><p><a href="https://teams.microsoft.com/meet/3723051004582?p=Xa04Xg1TlUod9vMljl">Liity Kirjastoautovartille tästä linkistä (Teams)</a></p>
LOCATION:Teams
END:VEVENT
END:VCALENDAR