BEGIN:VCALENDAR
VERSION:2.0
PRODID:-//kirjastotfi/procal//NONSGML v1.0//EN
BEGIN:VEVENT
DTSTART:20260113T130000
DTEND:20260113T143000
SUMMARY:Reissukahvit: Terveisiä Ruotsista!
DESCRIPTION:<p>Mikä on ajankohtaista ruotsalaisissa kirjastoissa? Tule mukaan AKE Porvoon ja Lupa- ja valvontaviraston (ent. Aluehallintovirasto) etäkahveille kuulemaan lisää!</p><p>Lupa- ja valvontavirasto järjesti syksyllä 2025 kaksi opintomatkaa Ruotsiin. Vierailun kohteina oli eri kokoisia kirjastoja, joiden tiloja ja toimintaa on kehitetty kiinnostavasti. Vieraillut paikkakunnat olivat Botkyrka, Haninge, Järfälla, Stockholm, Södertälje ja Värmdö. Matkojen teemoja olivat kulttuurinen moninaisuus ja monikielisyys, demokratia ja osallistaminen sekä lasten ja nuorten kirjastopalvelut.</p><p>Etäkahveilla kuulemme matkakertomuksia Uudenmaan kirjastojen osallistujilta. Kokemuksistaan kertovat <strong>Sara Kokkonen</strong> Tuusulasta ja <strong>Elina Roukala</strong> Espoosta.</p><h3>Aikataulu</h3><p>13-13.10 Johdantoa opintomatkoista / Lena Sundström, Lupa- ja valvontavirasto</p><p>13.10-14.10 Havaintoja vierailluista kirjastoista / Sara Kokkonen &amp; Elina Roukala</p><p>14.10-14.30 Kysymyksiä ja keskustelua</p><h3>Tuleeko tallenne?</h3><p>Esityksiä ei tallenneta.</p><h3>Osallistumislinkki</h3><p>Tule mukaan kahveille seuraavasta linkistä:</p><p><a href="https://teams.microsoft.com/l/meetup-join/19%3ameeting_OTZhZTlhODUtNGNmZC00M2MzLWJkZmItY2U0NjhhNTUwNDYw%40thread.v2/0?context=%7b%22Tid%22%3a%22ca8dd34c-ed0b-4236-92cb-5644bfcfaed6%22%2c%22Oid%22%3a%22c914ca2e-6e3f-4481-9fe5-d5b562bcbc61%22%7d">Osallistumislinkki reissukahveille</a></p>
LOCATION:Teams
END:VEVENT
END:VCALENDAR