BEGIN:VCALENDAR
VERSION:2.0
PRODID:-//kirjastotfi/procal//NONSGML v1.0//EN
BEGIN:VEVENT
DTSTART:20260331T090000
DTEND:20260331T100000
SUMMARY:Työelämän muutos ja mielenterveysilmiön nousu – havaintoja pitkän aikavälin kehityksestä ja kirjastoalalta
DESCRIPTION:<p>Luennolla tutkimusprofessori Ari Väänänen avaa työelämän pitkän aikavälin muutosta työterveyden ja -hyvinvoinnin näkökulmasta. Luento tarkastelee työelämän kulttuurista muuttumista ja mielenterveysilmiön nousua merkittäväksi haasteeksi. Kirjastoalan työntekijöiden kokemuksia verrataan muiden alojen tilanteeseen väestötutkimusten pohjalta. Väänäsen lähestymistapa yhdistelee tutkimustietoa erilaista lähteistä, tarjoten osallistujille välineitä ymmärtää sitä, kuinka erilaiset yhteiskuntaan ja työelämään liittyvät muutokset voivat heijastua kokemuksiin työssä ja omaan työkykyyn.</p><p>Ari Väänänen toimii tutkimusprofessorina Työterveyslaitoksessa. Arin tutkimusalueeseen kuuluu työelämän ja työikäisen väestön muutos pitkällä aikavälillä, ja kuinka tämä heijastuu työkykyyn ja työntekijöihin. Hän on taustaltaan sosiaalitieteilijä ja psykologi. Viime vuosina Ari on tutkinut esimerkiksi mielenterveyden käsitteen ja aseman muutosta työelämässä ja psykologisten tukimuotojen vaikuttavuutta erilaisissa väestöryhmissä. Hän on kirjoittanut muun muassa kirjan Mielen aikakausi (Gaudeamus, 2024).</p><p><a href="https://forms.office.com/Pages/ResponsePage.aspx?id=PAeQyu7Y7Ea1fLRoO7tCy--gK3v3uVdMhb1Nw54eCtBUNFRVMENMTlY0R1JHVkJTTUxFOVJCMUZUNy4u">Ilmoittautuminen</a></p>
LOCATION:Teams
END:VEVENT
END:VCALENDAR