BEGIN:VCALENDAR
VERSION:2.0
PRODID:-//kirjastotfi/procal//NONSGML v1.0//EN
BEGIN:VEVENT
DTSTART:20260211T123000
DTEND:20260211T153000
SUMMARY:Canva ja tekoäly
DESCRIPTION:<p>Käytätkö paljon Canvaa työsi tukena? Haluaisitko tehostaa käyttöä entisestään? Tässä käytännönläheisessä koulutuksessa harjoitellaan Canvan mahdollistamia tekoälytoimintoja. Perustaidot ja Canvan käyttökokemusta täytyy olla, että koulutukseen voi osallistua. Koulutuksessa ei käydä läpi Canvan perustoimintoja.</p><h2>Kouluttaja</h2><p>Kouluttajana toimii KM Petri Ilmonen /&nbsp;TRYcamps&nbsp;kielikoulu Oy.</p><h2>Tuleeko tallenne?</h2><p>Koulutuksesta ei tule tallennetta.</p><h2>Kenelle?</h2><p>Koulutus on suunnattu Uudenmaan yleisten kirjastojen henkilökunnalle, jotka käyttävät Canvaa työssään. Hyötyä on ainakin sometyötä, julisteita ja muita visuaalisia materiaaleja tekeville. Tarvitset Canva-tilin tunnukset, että pääset harjoittelemaan eri toimintoja koulutuksen aikana. Perustiedot tekoälystä olisi myös hyvä olla, mutta sen käyttökokemusta Canvassa ei tarvitse olla etukäteen.</p><p>Koulutuksessa on rajallinen määrä paikkoja.</p><p><a href="https://link.webropolsurveys.com/EP/AE6F198A5C1381BF"><strong>Ilmoittaudu mukaan 9.2. mennessä tällä Webropol-lomakkeella</strong></a></p><h2>Lisätietoja</h2><p><a href="mailto:Elina.Karioja@porvoo.fi">Elina.Karioja@porvoo.fi</a>&nbsp;</p>
LOCATION:Teams
END:VEVENT
END:VCALENDAR