BEGIN:VCALENDAR
VERSION:2.0
PRODID:-//kirjastotfi/procal//NONSGML v1.0//EN
BEGIN:VEVENT
DTSTART:20251211T130000
DTEND:20251211T143000
SUMMARY:Lanujen kirjakahvit: Aikuisten kirjoja, jotka sopivat nuorille ja nuorille aikuisille
DESCRIPTION:<p>Mitä aikuisten kirjoja voisit suositella nuorten ja nuorten aikuisten luettavaksi?</p><p>AKE Porvoon LANU-verkoston järjestämillä kahveilla vinkataan tällä kertaa aikuisten kirjallisuutta nuorten näkökulmasta.</p><p>Pedagoginen informaatikko <strong>Meri Markus</strong> Porvoon kaupunginkirjastosta vinkkaa kirjoja genreittäin. Osallistujat voivat täydentää kirjavinkkejä chatissä tai halutessaan kuvan ja äänen kera. Mukaan voi tulla myös vain kuuntelemaan.</p><p>Käsittelyssä ainakin:</p><ul><li>Jännitys- ja kauhukirjoja</li><li>Vaikuttavaa kirjallisuutta</li><li>Eri kulttuureita käsittelevää kirjallisuutta</li><li>Sota-aiheisia kirjoja</li></ul><p>Kahveilla vinkatuista kirjoista kootaan kirjalista uudenmaankirjastot.fi-sivulle.</p><h2>Kenelle?</h2><p>Vapaamuotoinen vinkkauspiiri on suunnattu kaikille lasten- ja nuortenkirjastotyötä tekeville kirjastolaisille, mutta mukaan voivat tulla myös aikuisten kirjoista kiinnostuneet. Tavoitteena on jakaa matalan kynnyksen vertaistukea vinkkaamisesta ja kartuttaa kirjavinkkejä vinkkauksiin.</p><h2>Mikä LANU-verkosto?</h2><p>AKE Porvoon verkostoon Lasten- ja nuorten kirjastotyötä Uudellamaalla ovat tervetulleita kaikki Uudellamaalla lasten ja nuorten kanssa työskentelevät kirjastolaiset. Verkostoon pääsee mukaan laittamalla viestiä Tiinalle.</p><h2>Osallistumislinkki kahveille</h2><p>Ota kupponen kahvia tai teetä ja tule linjoille seuraavasta linkistä:</p><p><a href="https://teams.microsoft.com/l/meetup-join/19%3ameeting_YzNhNjZjMTMtMTQ3Zi00YjNiLWIwOWItOGUyM2NiZDlhMjQx%40thread.v2/0?context=%7b%22Tid%22%3a%22ca8dd34c-ed0b-4236-92cb-5644bfcfaed6%22%2c%22Oid%22%3a%22c914ca2e-6e3f-4481-9fe5-d5b562bcbc61%22%7d">Osallistumislinkki lanujen kirjakahveille</a></p>
LOCATION:Teams
END:VEVENT
END:VCALENDAR