BEGIN:VCALENDAR
VERSION:2.0
PRODID:-//kirjastotfi/procal//NONSGML v1.0//EN
BEGIN:VEVENT
DTSTART:20260129T130000
DTEND:20260129T150000
SUMMARY:Lapset ja nuoret mukaan lukutaitotyöhön sanataidekasvatuksen keinoin
DESCRIPTION:<p>Kuinka vahvistaa lasten ja nuorten osallisuutta lukutaitotyössä taidepedagogisin menetelmin? Miten lisätä lasten ja nuorten sanataiteen näkyvyyttä kirjastossa?</p><p>Sanataideyhdistys Yöstäjän vetämässä koulutuksessa tutustutaan Tampereella toteutettuihin Lukutaitounelmia- ja Nuoret lukutaitovaikuttajat -hankkeisiin. Hankkeissa on kokeiltu erilaisia toiminta- ja yhteistyömuotoja lasten ja nuorten lukutaitotyön vaikutusmahdollisuuksien lisäämiseksi.</p><p><a href="https://www.yostaja.fi/julkaisut/lukutaitounelmia">Lue lisää Lukutaitounelmia- hankkeesta</a></p><p>Koulutuksessa kuullaan myös esimerkkejä kirjastoon sopivista sanataidesisällöistä ja kehittämisideoista. Kouluttajina toimivat FM <strong>Pia Krutsin</strong> ja FM <strong>Minttu Tervaharju</strong>.</p><h2>Kenelle?</h2><p>Koulutus on suunnattu Uudellamaalla yleisissä kirjastoissa työskenteleville. Koulutuksesta on hyötyä erityisesti lasten ja nuorten lukutaitotyötä tekeville.</p><h2>Tuleeko tallenne?</h2><p>Lyhyempi esitys tallennetaan, koko webinaaria ei tallenneta. Kannattaa siis osallistua webinaariin, jos se vain on mahdollista.</p><h2>Ilmoittautuminen ja lisätiedot</h2><p>Ilmoittaudu mukaan viimeistään 27.1. Mukaan mahtuu 50 osallistujaa.</p><p><a href="https://link.webropolsurveys.com/EP/E60519F4751EB59B">Ilmoittautumislinkki sanataidekoulutukseen</a></p>
LOCATION:Teams
END:VEVENT
END:VCALENDAR