BEGIN:VCALENDAR
VERSION:2.0
PRODID:-//kirjastotfi/procal//NONSGML v1.0//EN
BEGIN:VEVENT
DTSTART:20260210T130000
DTEND:20260210T143000
SUMMARY:Viestivä kirjasto, osa 2: Kutsuva kirjasto
DESCRIPTION:<p>Tuntuuko, että kirjaston viestintä hukkuu kaiken muun informaation alle, onko haastavaa kohdentaa viestintää, pohditko kuinka saavuttaa viestinnällä mahdollisimman moni kirjaston potentiaalinen asiakas?<br>Oulun, Rovaniemen ja Vaasan alueelliset kehittämistehtävät ovat koonneet neliosaisen koulutussarjan viestinnän tehostamiseen. Tämä koulutus käsittelee kirjastojen vaikuttavaa viestintää käytännönläheisellä otteella. Koulutuksessa pureudutaan siihen, mistä vaikuttava viestintä koostuu ja miten sisältöjen vaikuttavuutta voidaan lisätä myös yksinkertaisin keinoin. Pohdimme viestinnän eri kanavia suhteessa kohderyhmien tavoittamiseen ja keskustelemme siitä, miten eri kohderyhmille tulee viestiä, jotta näiden kiinnostus herätetään halutulla tavalla. Koulutus antaa tiiviin opastuksen selkokieliseen viestintään, mitä selkokieli on ja kuinka sitä voi hyödyntää viestinnässä ja asiakaspalvelussa. Kouluttajina toimivat Selkokeskus ja Viestintä-Piritta.<br>&nbsp;<br>10.2. klo 13-14:30</p><h2>Kutsuva kirjasto</h2><ul><li>Kirjaston kohderyhmät: mitä ne ovat ja mistä heidät voi tavoittaa?</li><li>Keinoja herättää ihmisen kiinnostus kirjastoa kohtaan</li><li>Kirjaston palveluista puhuminen kiinnostavalla tavalla</li><li>Vinkkejä sisältöjen muotoiluun ja monistamiseen eri kanaville</li><li>Uusien kohderyhmien houkutteleminen kirjastoon</li></ul><p><a href="https://forms.office.com/pages/responsepage.aspx?id=7kHpY1rMCUKkTYaJmU-swXrETwNildVBrbO2_ds_qbRUOVJFV08wU1I1U1pHVlg5OExVV0RLM1FNMi4u&amp;route=shorturl">Ilmoittautuminen</a><br>&nbsp;</p><p>Neliosaisen koulutussarjan muut koulutuspäivät ja -aiheet ovat (niistä on erilliset ilmoitukset)</p><p><span>13.1. klo 13-14:30&nbsp;&nbsp;&nbsp;&nbsp;&nbsp;&nbsp;&nbsp;&nbsp;&nbsp;&nbsp; <strong>Vaikuttava viestintä</strong></span></p><p><span>17.3. klo 13-14:30&nbsp;&nbsp;&nbsp;&nbsp;&nbsp;&nbsp;&nbsp;&nbsp;&nbsp;&nbsp; <strong>Suunnitelmalla suuntaa viestintään</strong></span></p><p><span>14.4. klo 13-14:30&nbsp;&nbsp;&nbsp;&nbsp;&nbsp;&nbsp;&nbsp;&nbsp;&nbsp;&nbsp; <strong>Selkoviestinnällä selkeyttä viestintään</strong></span></p>
LOCATION:Teams
END:VEVENT
END:VCALENDAR