BEGIN:VCALENDAR
VERSION:2.0
PRODID:-//kirjastotfi/procal//NONSGML v1.0//EN
BEGIN:VEVENT
DTSTART:20251202T093000
DTEND:20251202T110000
SUMMARY:Erten etävinkit: Matilda-voittaja Vantaa sekä terveiset Dublinista!
DESCRIPTION:<p dir="ltr">Erten etävinkeillä 2.12. kuullaan Matilda-palkinnon voittanutta Vantaan kaupunginkirjastoa, joka esittelee palkitun työnsä taustaa ja käytäntöjä: mitä lasten ja nuorten kirjastopalveluiden kehittämiseksi on tehty, millaista hakeutuvaa työtä perheiden kanssa tehdään ja miten Vantaan toimintamallit voivat inspiroida muita?</p><p dir="ltr">Lisäksi Seinäjoen Erte avaa matkaansa Dubliniin ja kertoo, millaisia palveluita perheille kaupungin kirjastot tarjoavat ja millaisia toimintamalleja ja oivalluksia Dublinista löytyy.</p><p dir="ltr">&nbsp;</p><p><strong>OHJELMA 2.12. klo 9.30–11.00</strong></p><p>klo 9.30–10.15<br><strong>Matilda-palkinnon voittaja: Vantaan kaupunginkirjasto</strong></p><p>klo 10.15–11.00<br><strong>Erten terveiset Dublinista</strong></p><p>&nbsp;</p><p>Tule mukaan linjoille ja keskustelemaan tai tilaa tallenne!</p><p><a href="https://link.webropolsurveys.com/EventParticipation/EventPublic/108a2d43-1212-461f-80f6-9a2be3e7b119?displayId=Fin3523523"><strong>Ilmoittaudu mukaan tästä linkistä!</strong></a></p><p><em>Webinaari tallennetaan ja linkki tallenteeseen lähetetään kaikille tapahtumapäivään mennessä ilmoittautuneille. Tallenne on katsottavissa 12 päivän ajan. Pidätämme oikeuden ohjelmamuutoksiin.</em></p>
LOCATION:
END:VEVENT
END:VCALENDAR