BEGIN:VCALENDAR
VERSION:2.0
PRODID:-//kirjastotfi/procal//NONSGML v1.0//EN
BEGIN:VEVENT
DTSTART:20251118T090000
DTEND:20251118T093000
SUMMARY:Celian kyselytunti kirjastoille
DESCRIPTION:<p>Vuoden viimeinen kyselytunti Teamsissa tiistaina 18.11.2025 klo 9.00 – 9.30. Aiheina rekisteröijien salasanat, CD-asiakkaiden siirtyminen verkkokuuntelijoiksi ja Celia ja ruotsalainen sisarkirjasto MTM.</p><p>Tervetuloa mukaan! Ei ennakkoilmoittautumista.&nbsp;</p>
LOCATION:Verkossa
END:VEVENT
END:VCALENDAR