BEGIN:VCALENDAR
VERSION:2.0
PRODID:-//kirjastotfi/procal//NONSGML v1.0//EN
BEGIN:VEVENT
DTSTART:20251209T130000
DTEND:20251209T140000
SUMMARY:Ympäristötyö kirjastoissa, 3. tapaaminen
DESCRIPTION:<p>Haluaisitko auttaa ihmisiä elämään kestävämmin tai lisätä ympäristötietoisuutta ja ‑toimintaa? Tervetuloa Ympäristötyö kirjastoissa ‑tapaamisiin!</p><p>Tapaamiset pohjautuvat <a href="https://liboppi.fi/suositukset/ymparistotyo-kirjastoissa/">Ympäristötyö kirjastoissa ‑Liboppi-kurssiin</a>, joka tutustuttaa kirjastojen tekemään kestävän kehityksen työhön. Kurssi käsittelee ympäristökasvatusta, ympäristötunteita, yleisten kirjastojen hiilijalanjälkeä sekä Agenda 2030 tavoitteita.</p><p>Tapaamiset ohjaa <strong>Ella Metsälä</strong>, joka työskenteli projektityöntekijänä Turun kaupunginkirjaston Kestävä kehitys Lounais-Suomen kirjastoissa ‑hankkeessa.</p><p>Tapaamisten tarkoitus on jakaa oppeja ja ideoita ja syventää oppimista yhdessä keskustellen. Ennen tapaamisia on hyvä käydä läpi käsiteltävät kurssiosiot Libopissa, mutta tärkeimmät jutut kerrataan aina yhdessä tapaamisen alussa.</p><p>&nbsp;</p><h2><strong>Kokoonnumme Teamsissa kolme kertaa:</strong></h2><h3><strong>Ensimmäinen tapaaminen – Ti 11.11. klo 13–14</strong></h3><p>Tapaamisessa käydään läpi Liboppi-kurssin osiot 1 ja 2. Tutustumme ympäristökasvatukseen ja keskustelemme siitä, mikä on kirjaston rooli ympäristökasvattajana.</p><h3><strong>Toinen tapaaminen – Ti 25.11. klo 13–14</strong></h3><p>Tapaamisessa kerrataan Liboppi-kurssin osiot 3 ja 4. Keskustelemme ympäristötunteista ja tutustumme yleisten kirjastojen hiilijalanjälkeen.</p><h3><strong>Kolmas tapaaminen – Ti 9.12. klo 13–14</strong></h3><p>Keskustelemme Liboppi-kurssin osiosta 5: Kirjastot ja Agenda 2030 tavoitteet sekä niiden soveltamisesta kirjaston arjessa.&nbsp;</p><h2><strong>Ilmoittautuminen</strong></h2><p><a href="https://link.webropolsurveys.com/EP/0B85DE882A35AE31">Ilmoittaudu mukaan Webropol-lomakkeella viimeistään 6.11.2025.</a></p><p>Eniten hyödyt jos pääset mukaan jokaiseen tapaamiseen, mutta voit ilmoittautua vaikka pääsisit mukaan vain osaan tapaamisista. Teams-kokouskutsut lähetetään ilmoittautumisajan päättymisen jälkeen.</p><p>Osallistujamäärä on rajoitettu 15 osallistujaan.&nbsp;</p>
LOCATION:Teams
END:VEVENT
END:VCALENDAR