BEGIN:VCALENDAR
VERSION:2.0
PRODID:-//kirjastotfi/procal//NONSGML v1.0//EN
BEGIN:VEVENT
DTSTART:20251107T113000
DTEND:20251107T143000
SUMMARY:Maksutonta, ilmaista vai vaihdantaa? Kirjastojen näkökulmia kaukopalveluun
DESCRIPTION:<p>Kaukopalvelu on tärkeä osa kirjastojen aineistojen saatavuutta. STKS:n Aineiston saatavuus -työryhmä järjestää webinaarin, jossa valotetaan erilaisia näkökulmia kaukopalveluun. Webinaari on tarkoitettu kaikille aiheesta kiinnostuneille.</p><p>Asiantuntijapuhujina ovat Juha Leppämäki Helsingin yliopiston kirjastosta, Johanna Vesterinen Varastokirjastosta, Soile Manninen Helsingin yliopiston kirjastosta sekä Jaakko Kortesharju ja Päivi Kouvo Aalto-yliopiston oppimiskeskuksesta.</p><p>Webinaarin aiheita ovat kaukopalvelun maksuttomuus, kaukopalvelun toteutus Alma-järjestelmän ja ISO 1826 -automaation avulla sekä kaukopalveluun liittyvät e-aineistojen oikeudet ja lisenssit. Lisäksi kuulemme Varastokirjaston tuoreimmat kuulumiset.</p><p><a href="https://www.stks.fi/koulutus/maksutonta-ilmaista-vai-vaihdantaa-kirjastojen-nakokulmia-kaukopalveluun-webinaarin-7-11-2025-ilmoittautuminen-avattu/">Tarkempi ohjelma ja ilmoittautuminen löytyy STKS:n verkkosivuilta</a>.&nbsp;</p><p>Ilmoittautuminen päättyy 5.11.2025. Linkki webinaariin lähetetään ilmoittautuneille.</p>
LOCATION:Webinaari
END:VEVENT
END:VCALENDAR