BEGIN:VCALENDAR
VERSION:2.0
PRODID:-//kirjastotfi/procal//NONSGML v1.0//EN
BEGIN:VEVENT
DTSTART:20251120T120000
DTEND:20251120T154000
SUMMARY:Kirjastot ja kulttuurihyvinvointi
DESCRIPTION:<p dir="ltr">Laajasti ymmärrettynä kaikki yleisten kirjastojen toiminta edistää hyvinvointia ja osallisuutta ja on siten kulttuurihyvinvointipalvelua. Tiukemmin määriteltynä kysymys on erikseen määritellyistä palveluista, joilla on terveyttä ja hyvinvointia edistäviä tavoitteita. AVI kirjastoimen webinaarissa pohditaan tarkemmin kulttuurihyvinvoinnin käsitettä ja yhteyksiä kulttuuripoliittiseen selontekoon, kulttuurihyvinvointiin keskeisesti liittyvää yhdyspintatyötä kuntien ja muiden toimijoiden välillä sekä kulttuurihyvinvoinnin arviointia ja mittaamista. Webinaarissa kuullaan myös esimerkkejä, miten kulttuurihyvinvointityötä on käsitteellistetty ja käytännössä toteutettu kirjastoissa.&nbsp;</p><h2 dir="ltr">Ohjelma</h2><p><span>12.00-12.15 Tilaisuuden avaus, ylitarkastaja Marko Ojala, Etelä-Suomen aluehallintovirasto&nbsp;</span></p><p><span>12.15-13.00 Kehittyvä kulttuurihyvinvointi - muutoksia ja merkitysulottuvuuksia, erityisasiantuntija Katri Leppisaari, Taiteen edistämiskeskus&nbsp;</span></p><p><span>13.00-13.30 Kunnat ja hyvinvointialue asukkaiden hyvinvointia edistämässä?, projektipäällikkö Liisa Jurmu, hyvinvointi ja sivistys -yksikkö, Kuntaliitto.&nbsp;</span></p><p><span>13.30-14.00 Kulttuurihyvinvoinnin mittaaminen ja arviointi, puhujatieto täydentyy&nbsp;</span></p><p><span>14.00-14.15 Tauko&nbsp;</span></p><p><span>14.15-15.30 Kirjastojen rooli kulttuurihyvinvoinnin edistäjänä:&nbsp;</span></p><ul><li><span>Monialaisen yhteistyön tuloksia Kymenlaaksolaisella Sananjalkapolulla, hankekoordinaattori Piia Kleimola, Kouvolan kaupunginkirjasto &nbsp;</span></li><li><span>Kokeillen kohti kulttuurihyvinvointia kirjastossa -hanke, kirjastopäällikkö Pia Kontio, Mikkelin seutukirjasto</span></li><li><span>Lukutaitotyö kirjaston kulttuurihyvinvointipalveluna, kohderyhmänä 0-6v lapset ja perheet, yhteisöpedagogi (YAMK), projektityöntekijä, Anna Kähkönen, Hämeenlinnan kaupunginkirjasto&nbsp;</span></li></ul><h2 dir="ltr">Muut tiedot</h2><p dir="ltr"><span>Tilaisuus on osallistujille maksuton. Muutokset ohjelmaan ovat mahdollisia. Tilaisuus tallennetaan. Linkki tallenteeseen lähetetään ilmoittautuneille ja on katsottavissa kaksi viikkoa.&nbsp;</span>&nbsp;<br><br>&nbsp;</p><h2 dir="ltr">Lisätietoja</h2><p dir="ltr">Marko Ojala, etunimi.sukunimi@avi.fi, p. 0295 016 175</p>
LOCATION:
END:VEVENT
END:VCALENDAR