BEGIN:VCALENDAR
VERSION:2.0
PRODID:-//kirjastotfi/procal//NONSGML v1.0//EN
BEGIN:VEVENT
DTSTART:20251211T090000
DTEND:20251212T153000
SUMMARY:Vuoden valinnat 2025: kirjallisuus ja musiikki
DESCRIPTION:<p><strong>PiKe-alueen kirjastojen omat asiantuntijat luovat silmäyksen vuoden 2025 keskeisimpiin sisältöihin kirjallisuuden ja musiikin valintojen osalta. Kaksipäiväinen Vuoden valinnat -tilaisuus korvaa aiemmin erillään toisistaan järjestetyt Lukuvuosi- ja Musiikin valinnat -tilaisuudet. Ensimmäisenä päivänä keskitytään kirjallisuuteen, toisena painotus on musiikkiaineistossa.</strong></p><p>Torstaina 11.12. käydään läpi vuonna 2025 ilmestynyttä aikuisten kirjallisuutta monesta erilaisesta näkökulmasta. Perjantaina 12.12. käydään läpi vuoden aikana ilmestyneitä musiikin aineistoja laajasti eri genreistä sekä musiikista osana kirjastotyötä – äänitteitä, omakustanteita ja musiikkikirjoja.&nbsp;Olet lämpimästi tervetullut seuraamaan kattavaa ja tehokasta katsausta vuoden kiinnostavimpiin teoksiin PIKI- ja Keski-kirjastolaisten voimin.</p><h2><strong>Aika, paikka ja ilmoittautuminen</strong></h2><p><strong>Vuoden valinnat 2025: Kirjallisuus ja musiikki</strong><br><strong>To 11.12.2025 – pe 12.12.2025</strong><br><strong>Jyväskylän pääkirjasto, Wolmarinsali</strong></p><p>Ilmoittautumisen yhteydessä pääset valitsemaan haluamasi osallistumistavan 1.12. mennessä. Ilmoittautumiseen <a href="https://elomake.tampere.fi/lomakkeet/31579/lomake.html">ohesta</a>.</p><p>Vuoden valinnat 2025 järjestetään Jyväskylän pääkirjaston Wolmarinsalissa.&nbsp;Puheenvuorot tallennetaan ja jaetaan myöhemmin akepike.fi-sivuston opiskelumateriaaleissa.</p><h2><strong>Ohjelma</strong></h2><p><strong>Vuoden valinnat 2025: Kirjallisuus</strong><br><strong>Jyväskylän pääkirjasto, Wolmarinsali</strong><br><strong>To 11.12.2025</strong><br><strong>Klo 9.00–15.00</strong></p><blockquote><p>Klo 9.00–9.15 Aamukahvit&nbsp;</p><p>Klo 9.15–10.00 Euroviisut / <strong>Tommi Tapiainen</strong>, kirjastonhoitaja (Jämsän kaupunginkirjasto)&nbsp;</p><p>Klo 10.00–10.30 ”Kirjojahan ne nuotitkin ovat” – kiinnostavimmat nuottiuutuudet 2025 /<strong> Ilona Heinonen</strong>, kirjastonhoitaja (Tampereen kaupunginkirjasto)</p><p>Klo 10.30–10.45 Tauko&nbsp;</p><p>Klo 10.45–11.30 Ensin toiminta: esseitä / <strong>Ismo Santala</strong>, kirjastonhoitaja (Tampereen kaupunginkirjasto)</p><p>Klo 11.30–12.30 Lounas (omakustanteinen)&nbsp;</p><p>Klo 12.30–13.15 Maagisesta realismista fantasiaan / <strong>Venla Virhiä</strong>, kirjastonhoitaja (Tampereen kaupunginkirjasto)&nbsp;</p><p>Klo 13.15–13.30 Iltapäiväkahvit&nbsp;</p><p>Klo 13.30–14.15&nbsp; Faktaa ja fiktiota taiteesta / <strong>Paula Rönni</strong>, kirjastonhoitaja (Tampereen kaupunginkirjasto)&nbsp;</p><p>Klo 14.15–15.00 Tietoa nollasta ysiin / <strong>Heini Pelkonen</strong>, kirjastonhoitaja (Tampereen kaupunginkirjasto)&nbsp;</p></blockquote><p><strong>Vuoden valinnat 2025: Musiikki</strong><br><strong>Jyväskylän pääkirjasto, Wolmarinsali</strong><br><strong>Pe 12.12.2025</strong><br><strong>Klo 9.00–15.30</strong></p><blockquote><p>Klo 9.00–9.15 Aamukahvit</p><p>Klo 9.15–10.00 Musiikista kirjoittamisen ”glamour” ja prosessit vuonna 2025 /&nbsp;<strong>Matti Riekki</strong>, musiikkitoimittaja ja tietokirjailija</p><p>Klo 10.00–10.15 Keskusteleva tauko</p><p>Klo 10.15–11.00 Kirjattuja tarinoita – toimittaja häivyttää roolinsa. Musiikin elämäkerrat 2025 /&nbsp;<strong>Sakari Niemelä</strong>, kirjastovirkailija (Äänekosken kaupunginkirjasto)</p><p>Klo 11.00-11.30 Musiikkimatka maailman ympäri : musiikkivinkkausta Tampereen kaupunginkirjastossa /&nbsp;<strong>Marjaana Hietala</strong>, tietopalvelusihteeri (Tampereen kaupunginkirjasto)</p><p>Klo 11.30–12.00 Kirjaston sijainnista riippumattomat valtakunnalliset musiikkikirjastopalvelut /<strong>&nbsp;Tuomas Pelttari</strong>, suunnittelija (Musiikkikirjastot.fi)</p><p>Klo 12.00–12.45&nbsp;Lounas (omakustanteinen)</p><p>Klo 12.45–13.30 ”Mitä varten vuodesta toiseen soitatte proggista?” : progevuosi 2025 /&nbsp;<strong>Jari Missonen</strong>, kirjastonhoitaja (Tampereen kaupunginkirjasto)</p><p>Klo 13.30–14.00 Musiikkiuutuuksia Lapista ja Saamenmaalta /&nbsp;<strong>Marko Niemelä</strong>, asiakaspalvelupäällikkö (Rovaniemen kaupunginkirjasto)</p><p>Klo 14.00–14.15 Keskusteleva kahvitauko</p><p>Klo 14.15–15.00 Klassisen musiikin uutuudet / <strong>Auli Särkiö-Pitkänen</strong>, vapaa musiikkikirjoittaja</p><p>Klo 15.00–15.30 Musiikkilehdet ja -zinet Suomessa ja maailmalla&nbsp;<strong>/ Antti Erkkilä</strong>, kirjastonhoitaja (Tampereen kaupunginkirjasto)</p></blockquote><h2><strong>Lisätiedot</strong></h2><p>Koordinaattori Kaisa Palomäki<br>040 659 3021 /&nbsp;kaisa.palomaki(a)tampere.fi</p><p>Koordinaattori Pasi Kangas<br>040 800 7821 / pasi.kangas(a)tampere.fi</p><p><em>Tilaisuuden järjestää Tampereen kaupunginkirjasto. Tampereen kaupunginkirjastolla on alueellinen kehittämistehtävä Pirkanmaan ja Keski-Suomen alueella. Kuvat ja tunnelmat somessa, käytä tunnistetta: #akepike.</em></p>
LOCATION:Jyväskylän pääkirjasto / Wolmarinsali
END:VEVENT
END:VCALENDAR