BEGIN:VCALENDAR
VERSION:2.0
PRODID:-//kirjastotfi/procal//NONSGML v1.0//EN
BEGIN:VEVENT
DTSTART:20251029T140000
DTEND:20251029T150000
SUMMARY:Lukuteatteri osana kirjastotyötä
DESCRIPTION:<p>Tässä webinaarimuotoisessa koulutuksessa käsitellään lukuteatteria kirjallisuuden tunnetuksi tekemisen ja lukemaan innostamisen menetelmänä. Mitä lukuteatteri tarkoittaa? Kuka esityksiä tekee, missä ja kenelle? Miten lukuteatteritoiminta voi olla osa kirjastotyötä ja millaisia resursseja tarvitaan toiminnan järjestämiseen?</p><p>Webinaarissa esitellään lukuteatteria matalan kynnyksen esitystoimintana, joka sopii monen ikäisille osallistujille ja kuulijoille. Lukutapahtuman järjestämistä avataan käytännön esimerkein, jotka on poimittu Akaan Lukuteatteri -ryhmän ja Kirjasto kaikissa kekkereissä -hankkeen toteutuksista 2024–2025.</p><p>Kouluttajana on lukuteatterin ohjaaja, FT Kati Andrianov.</p><p>Webinaarin järjestää Kirjasto kaikissa kekkereissä -hanke, johon Akaan kaupunginkirjasto on saanut valtionavustusta.</p><p>Ennakkoilmoittautumiset pyydetään sähköpostitse osoitteeseen katriina.andrianov(a)akaa.fi viimeistään tiistaina 28.10. Lähetämme osallistumislinkin ilmoittautuneille.</p><p>Tervetuloa!</p>
LOCATION:
END:VEVENT
END:VCALENDAR