BEGIN:VCALENDAR
VERSION:2.0
PRODID:-//kirjastotfi/procal//NONSGML v1.0//EN
BEGIN:VEVENT
DTSTART:20251021T083000
DTEND:20251021T100000
SUMMARY:Kirjastoseuran uusi strategia
DESCRIPTION:<p>Tervetuloa Kirjastoseuran hallituksen aamukahveille Teamsiin tiistaina 21.10. klo 8.30–10, teemana Kirjastoseuran uusi strategia.</p><p>Aamukahveilla esittelemme vuosikokouksessa hyväksytyn seuran uuden strategian ja keskustelemme siitä.</p><p>Strategiaa on esittelemässä seuran puheenjohtaja <strong>Laura Rissanen</strong>, strategiatyöryhmässä toiminut hallituksen <strong>Annastiina Louhisalmi</strong> ja toiminnanjohtaja <strong>Juha Manninen</strong>.</p><p>Aamukahvit ovat avoimet kaikille, joten tule mukaan kuuntelemaan, tutustumaan hallituslaisiin ja osallistumaan keskusteluun!</p><p>Voit tutustua strategiaan jo ennakkoon täällä: <a href="https://suomenkirjastoseura.fi/hallinta/wp-content/uploads/2025/05/Suomen-kirjastoseuran-strategia-2026.pdf">Suomen kirjastoseuran strategia 2026</a></p><p>Ilmoittaudu kahveille&nbsp;<a href="https://suomenkirjastoseura-lv.creamailer.fi/survey/chthydjy2lanr">tästä ilmoittautumislinkistä</a>. Voit halutessasi lähettää puhujille ennakkoon kysymyksiä samasta linkistä! Lähetämme pe 17.10. mennessä ilmoittautuneille osallistumislinkin sähköpostitse.</p><p>Pääset liittymään aamukahveille suoraan myös tiistaina klo 8.20 alkaen t<a href="https://suomenkirjastoseura.fi/tapahtuma/hallituksen-aamukahvit-tiistaina-21-10-klo-8-30-10/">apahtumasivulla</a> julkaistavan linkin kautta.</p>
LOCATION:
END:VEVENT
END:VCALENDAR