BEGIN:VCALENDAR
VERSION:2.0
PRODID:-//kirjastotfi/procal//NONSGML v1.0//EN
BEGIN:VEVENT
DTSTART:20251126T090000
DTEND:20251126T120000
SUMMARY:Kokoelmatyön tiedolla johtaminen
DESCRIPTION:<p>Kokoelmatyön tiedolla johtamisen webinaarissa tutustutaan kokoelmien kehittämisen kannalta tärkeisiin tilastolähteisiin ja niiden hyödyntämiseen. Koulutuksessa saadaan myös käytännön esimerkki Power BI-työkalun hyödyntämisestä kokoelmatyössä erityisesti poistojen näkökulmasta.</p><p>Kouluttajina webinaarissa ovat kirjastotoimen ylitarkastaja <strong>Virpi Launonen</strong> Itä-Suomen aluehallintovirastosta ja <strong>Tuomas Kunttu</strong>, johtava informaatikko Kouvolan kaupunginkirjastosta.</p><p>Koulutuksen tavoitteena on lisätä kokoelmien kehittämisen kannalta hyödyllisten tietolähteiden ja työkalujen tuntemusta ja käyttöä.</p><h3>Kenelle?</h3><p>Koulutus soveltuu kokoelmatyötä tekeville, kokoelmien kehittämisestä vastaaville sekä kirjaston tietojohtamisesta ja tietojärjestelmien kehittämisestä vastaaville.</p><h3>Tuleeko tallenne?</h3><p>Koulutus tallennetaan.</p><h3>Ohjelma</h3><p>9.00-11.00 Kokoelman kehittäjän tilastolähteitä, Virpi Launonen</p><p>11.00-12.00 Tietojohtaminen kokoelmatyössä Power BIn avulla, Tuomas Kunttu</p><h3>Kirjaston kokoelmat lukemisen tukena</h3><p>Koulutuksen jälkeen iltapäivällä Lahden AKE ja AKE Porvoo järjestävät keskustelun (etätoteutus, Teams) teemalla ”Kirjaston kokoelmat lukemisen tukena”. Keskusteluun ilmoittaudutaan erikseen.</p><p><a href="https://uudenmaankirjastot.fi/events/kirjaston-kokoelmat-lukemisen-tukena-lahden-aken-ja-ake-porvoon-hyvin-sanottu-%e2%80%91keskustelu/">Lue lisää keskustelusta</a></p><h3>Ilmoittautuminen</h3><p>Ilmoittaudu koulutukseen viimeistään 24.11. oheisesta linkistä</p><p><a href="https://link.webropolsurveys.com/EP/979DA1D72B9BE3EF">Ilmoittaudu Kokoelmatyön tiedolla johtamisen koulutukseen</a></p>
LOCATION:Teams
END:VEVENT
END:VCALENDAR