BEGIN:VCALENDAR
VERSION:2.0
PRODID:-//kirjastotfi/procal//NONSGML v1.0//EN
BEGIN:VEVENT
DTSTART:20251024T091500
DTEND:20251024T110000
SUMMARY:PiKen kokoelma-aamupäivä: Kirjastot, tekoälykirjastot sekä PiKe-kirjastojen päivittyvät kokoelmapolitiikat
DESCRIPTION:<p><strong>PiKen kokoelmatilaisuudet jatkuvat! Syksyn kokoelma-aamupäivässä kutsumme kirjastoammattilaiset työnkuvastaan riippumatta tutustumaan Pirkanmaan ja Keski-Suomen kirjastojen vuonna 2025 uudistuviin kokoelmapolitiikan asiakirjoihin sekä tuoreimpiin algoritmipohjaisen kokoelmanhallinnan aiheisiin. Tule mukaamme lisäämään ymmärrystä monipuolisen ja uudistuvan kokoelman ylläpitämiseen vaikuttavista uusista ratkaisuista ja yhteisistä periaatteista.</strong></p><p>Tilaisuudessa kirjastonhoitaja <strong>Venla Virhiä</strong> (Tampereen kaupunginkirjasto) sekä palvelupäällikkö <strong>Hanna Martikainen</strong> (Jyväskylän kaupunginkirjasto) esittelevät loppusuoralla olevien PIKI- ja Keski-kirjastojen kokoelmapolitiikka-asiakirjojen päivitystyötä ja sisältöä. Kirjastojen kokoelmatiimit ovat työstäneet aihetta sekä itsenäisesti että vuoropuhelussa keskenään vuoden 2025 aikana. <strong>Riie&nbsp;Heikkilä</strong>, VTT, dosentti&nbsp;(Tampereen yliopisto) esittelee uutta, vertailevaa tutkimustaan suomalaisten yleisten kirjastojen kokoelmanhallinnan muutoksista ja sitä, kuinka tekoäly voi vaikuttaa kokoelmiin ja siten kirjaston käyttäjien kulttuuripääomaan. Viime vuosina hän on perehtynyt&nbsp;lukemisen vähenemiseen ja eriytymiseen Suomessa (<em>Miksi lakkasimme lukemasta? Sosiologinen tulkinta lukemisen muutoksesta</em>, Gaudeamus 2024).<br>&nbsp;</p><h2><strong>Opiskelumateriaalit</strong></h2><p>Iltapäivään voi orientoitua jo ennakkoon tutustumalla&nbsp;<a href="https://www.kirjastot.fi/sites/default/files/content/valtakunnallinen-kokoelmakysely-2024_fi.pdf">valtakunnalliseen kotimaiseen kokoelmakyselyraporttiin</a> tai vuonna 2024 julkaistuun <a href="https://wwwbiblioteksfor.cdn.triggerfish.cloud/uploads/2024/10/rapport-bibliotekarier-om-sitt-mediestrategiska-uppdrag-2024.pdf">ruotsalaiseen aineistostrategiaraporttiin</a>. Tilaisuuden&nbsp;esitysmateriaalit ovat opiskeltavissa jälkikäteen akepiken opiskelumateriaaleissa. Puheenvuorot tallennetaan katsottavaksi vuoden 2025 loppuun.</p><h2><strong>Aika, paikka ja ilmoittautuminen</strong></h2><p><strong>PiKen kokoelma-aamupäivä: Kirjastot, tekoälykirjastot sekä PiKe-kirjastojen päivittyvät kokoelmapolitiikat</strong><br><strong>Pe 24.10. klo 9.15-11</strong><br><strong>Etälähetys</strong></p><p><a href="https://elomake.tampere.fi/lomakkeet/31583/lomake.html">Ilmoittaudu mukaan ohesta 21.10. mennessä.</a></p><h2><strong>Ohjelma</strong></h2><p>Klo 9.15-10.00 PIKI- ja Keski-kirjastojen uudistuvat kokoelmapolitiikat tutuiksi! / eri esittäjiä</p><ul><li>PIKI-kirjastojen kokoelmapolitiikka / <strong>Venla Virhiä</strong>, kirjastonhoitaja (Tampereen kaupunginkirjasto)</li><li>Keski-kirjastojen kokoelmapolitiikka / <strong>Hanna Martikainen</strong>, palvelupäällikkö (Jyväskylän kaupunginkirjasto)</li></ul><p>Klo 10.00-10.15 Tauko</p><p>Klo 10.15-10.45 Tutkimusaiheena tekoälykirjasto vs. perinteinen kirjasto: aineistonhallinnan logiikat, asiakaskokemus ja henkilöstön näkökulmat muutoksessa / <strong>Riie Heikkilä</strong>, VTT, dosentti&nbsp;(Tampereen yliopisto)</p><p>Klo 10.45-11.00 Keskustelu ja yhteenveto / Kehittämiskirjasto hostaa</p><p><em>Tilaisuuden järjestää Tampereen kaupunginkirjasto. Tampereen kaupunginkirjastolla on alueellinen kehittämistehtävä Pirkanmaan ja Keski-Suomen alueella. Kuvat ja tunnelmat somessa, käytä tunnistetta: #akepike</em></p><h2><strong>Lisätiedot</strong></h2><p>Koordinaattori Juliaana Grahn<br>040 800 7828 / juliaana.grahn(a)tampere.fi</p>
LOCATION:Teams
END:VEVENT
END:VCALENDAR