BEGIN:VCALENDAR
VERSION:2.0
PRODID:-//kirjastotfi/procal//NONSGML v1.0//EN
BEGIN:VEVENT
DTSTART:20251111T140000
DTEND:20251126T184500
SUMMARY:Kirjasto mediataitojen tukena -webinaarit uuden mediakasvatuskokonaisuuden käyttöönottoon kirjastoille
DESCRIPTION:<p>Kansanvalistusseura-säätiön ja Mediakasvatusseuran <a href="https://mediakasvatus.fi/hanke/2024/11/uutistenlukua-eri-mediamaailmoissa-toimintamalli-nuorten-ja-aikuistenmedialukutaidon-vahvistamiseen/">Uutistenlukua eri mediamaailmoissa</a> -hankkeessa on pidetty menneen kevään ja kuluvan syksyn aikana työpajoja 15 eri kirjastossa nuorille ja aikuisille.</p><p>Uutistenlukuun ja mediakasvatukseen kehitetty työpajamalli ja oppimateriaali jalkautetaan kirjastoammattilaisten käyttöön<strong> Kirjasto mediataitojen tukena -webinaareissa.&nbsp;</strong></p><ul><li><a href="https://kansanvalistusseura.fi/tapahtumat/uutistenlukupaja-webinaari-1111/"><strong>tiistaina 11.11. kello 14–14.45</strong></a></li><li><a href="https://kansanvalistusseura.fi/tapahtumat/uutistenlukupaja-webinaari-2011/"><strong>torstaina 20.11. kello 9–10</strong></a>,</li><li><a href="https://kansanvalistusseura.fi/tapahtumat/uutistenlukupaja-webinaari-2611/"><strong>keskiviikkona 26.11. kello 18–18.45</strong></a>.</li></ul><p>Toimintamallin ja materiaalin esittelevät mediakasvatuksen asiantuntija <strong>Johannes Repo</strong> Mediakasvatusseurasta ja hankkeen projektipäällikkö <strong>Terhi Kouvo</strong> Kvs-säätiöstä. <strong>Koulutukset ovat maksuttomia, mutta vaativat ilmoittautumisen.</strong></p><p>Uutistenlukupajoissa vahvistetaan nuorten ja aikuisten medialukutaitoja toiminnallisten harjoitusten ja keskustelun avulla: käydään läpi uutislähteitä, tutustutaan journalismin etiikkaan, tunnistetaan valeuutisia ja pohditaan tekoälyn vaikutusta uutisiin.</p><p>Helppokäyttöisen ja muunneltavan toimintamallin avulla kirjastot voivat järjestää medialukutaidon työpajoja tapahtumiensa yhteydessä tai säännöllisenä ryhmätoimintana esimerkiksi paikallisten yhdistysten kanssa.</p><p>Uutistenlukupajan toimintamalli materiaaleineen julkaistaan marraskuussa. &nbsp;</p><p>Ilmoittaudu mukaan linkistä!&nbsp;<strong> </strong><a href="https://link.webropolsurveys.com/Participation/Public/ddddd22c-991d-4c03-8390-04260cd526a9?displayId=Fin3438360"><strong>Kirjasto mediataitojen tukena -webinaarit</strong></a></p><p>Liittymislinkki webinaariin lähetetään osallistujille webinaaripäivän lähestyessä.&nbsp;</p>
LOCATION:Etänä Teamsissa
END:VEVENT
END:VCALENDAR