BEGIN:VCALENDAR
VERSION:2.0
PRODID:-//kirjastotfi/procal//NONSGML v1.0//EN
BEGIN:VEVENT
DTSTART:20251111T130000
DTEND:20251111T143000
SUMMARY:Tekijänoikeuskahvit: Kirjaston Kopiraittila esittelyssä
DESCRIPTION:<p>AKE Porvoon järjestämillä etäkahveilla pureudutaan aina ajankohtaisiin tekijänoikeusasioihin. Kesäkuussa 2025 julkaistu Kirjaston Kopiraittila –sivusto tarjoaa käytännöllisiä ja selkeitä ohjeita tekijänoikeuksien kunnioittamiseen. Sivuston ovat toteuttaneet yhteistyössä kirjastoalan ammattilaiset ja tekijänoikeusjärjestö Kopiosto. Sivusto lähestyy kirjastotyötä käytännönläheisesti arkisten esimerkkien kautta ja auttaa kirjastossa työskenteleviä hahmottamaan, millaiseen teosten käyttöön tarvitaan lupa, mistä sellaisen voi hankkia ja millaisia lupia on kirjastojen käytössä.</p><p><a href="https://kirjastonkopiraittila.fi/"><strong>Tästä pääset tutustumaan Kirjaston Kopiraittila -sivustoon</strong></a></p><p>Sivustoa ja sen käyttötarkoitusta esittelee kehittämistyössä mukana ollut juristi <strong>Gia Signell</strong> Kopiostosta.</p><p>Mikäli et löydä sivustolta vastausta sinua askarruttaneeseen tekijänoikeuskysymykseen, voit kirjoittaa kysymyksesi etukäteen Miroon.</p><p><a href="https://miro.com/app/board/uXjVJPmhG6M=/?share_link_id=513185480001"><strong>Tästä pääset Miro-seinälle</strong></a></p><h2>Ohjelma</h2><p>13.00-13.05 Tervetuloa! <strong>Elina Karioja</strong>, AKE Porvoo</p><p>13.05-14.00 Kirjaston Kopiraittila –sivusto ja sen käyttötarkoitus. <strong>Gia Signell</strong>, juristi, Kopiosto.</p><p>14.00-14.30 Aikaa kysymyksille ja yhteisille pohdinnoille</p><h2>Tuleeko tallenne?</h2><p>Tilaisuutta ei tallenneta.</p><h2>Kenelle?</h2><p>Tilaisuus on suunnattu kaikille yleisten kirjastojen työntekijöille työskentelitpä sitten tapahtumien, kokoelmatyön tai someviestinnän parissa. Mukaan voi liittyä myös Uudenmaan ulkopuolelta.</p><p><a href="https://teams.microsoft.com/l/meetup-join/19%3ameeting_OWMwM2M0ZDctZDhmNi00ZDBlLTk0OTAtZGE3NmRjNzE5NDA4%40thread.v2/0?context=%7b%22Tid%22%3a%22ca8dd34c-ed0b-4236-92cb-5644bfcfaed6%22%2c%22Oid%22%3a%22e541d5ec-347e-45c2-89f1-1bfbb9dba5ca%22%7d"><strong>Liity linjoille tästä Teams-linkistä</strong></a></p><h2>Lisätietoja</h2><p><a href="mailto:Elina.Karioja@porvoo.fi">Elina.Karioja@porvoo.fi</a>&nbsp;</p>
LOCATION:Teams
END:VEVENT
END:VCALENDAR