BEGIN:VCALENDAR
VERSION:2.0
PRODID:-//kirjastotfi/procal//NONSGML v1.0//EN
BEGIN:VEVENT
DTSTART:20251126T093000
DTEND:20251126T154500
SUMMARY:Edistä erikielistä asiointia kirjastossa 26.11.
DESCRIPTION:<p><strong>Kaipaatko varmuutta ja rohkeutta erikielisten asiakkaiden kohtaamiseen? Mistä löytyy oikea sana tai fraasi silloin, kun sitä eniten kaivataan? Tule mukaan kuulemaan ruotsin- ja englanninkielisten kollegoiden parhaat vinkit ja harjoittelemaan yhdessä monikielisiä asiakaskohtaamisia!</strong></p><p>Päivää luotsaa pitkän linjan kouluttaja&nbsp;<strong>Päivi Jokitalo</strong>, joka toimi 3,5 vuotta kirjastoalan opettajana Keudassa (vetäen myös ruotsinkielisen ammattitutkinnon alusta loppuun) ja aloittelee 15. vuottaan tuntiopettajana Seinäjoen ammattikorkeakoulussa. Päivi tuo pöytään kokemuksiaan luovimisesta kirjastoalan verkostoissa monella kielellä ja ohjaa yhteistä pohdintaa kansalliskielistrategian edistämisestä.</p><p>Palveluvastaava&nbsp;<strong>Catharina Latvalan</strong>&nbsp;matkassa osallistujat perehtyvät kirjastoruotsiin ja ruotsinkieliseen asiakastyöhön. Kirjastovirkailija&nbsp;<strong>Rebecca Hopkins</strong>&nbsp;johdattelee osallistujia kirjastoenglannin ja englanninkielisen kirjavinkkauksen pariin. Käytännön harjoituksissa osallistujat pääsevät työskentelemään yhdessä eri kielillä. Monikielisen kirjaston palveluihin kurkistetaan päivän aikana informaatikko&nbsp;<strong>Minna Mohrin</strong>&nbsp;opastuksella.</p><h2><strong>Aika, paikka ja ilmoittautuminen</strong></h2><p><strong>Edistä erikielistä asiointia kirjastossa</strong><br><strong>Ke 26.11.2025 klo 9.30-15.45</strong><br><strong>Jyväskylän pääkirjasto / Wolmarinsali</strong></p><p><a href="https://elomake.tampere.fi/lomakkeet/31522/lomake.html">Ilmoittaudu mukaan oheisesta linkistä 17.11. mennessä.</a></p><h2><strong>Opiskelumateriaalit</strong></h2><p>Tilaisuuden materiaalit päivitetään oheen tilaisuuden jälkeen.</p><h2><strong>Ohjelma</strong></h2><blockquote><p>klo 9.30-9.50 Morronkaffe, morning coffee ja aamukahvi</p><p>klo 9.50-10.10 Välkommen, bienvenue, welcome! Yksikielisyys, kaksikielisyys ja virkakielisyys sekä Päivin mehevimmät kielimokat (millä tahansa kielellä) /&nbsp;<strong>Päivi Jokitalo</strong></p><p>klo 10.10-10.30 Monikielinen kirjasto esittäytyy / <strong>Minna Mohr</strong>, informaatikko (Monikielinen kirjasto)</p><p>klo 10.30-11.10 Bibliotekssvenska /&nbsp;<strong>Catharina Latvala</strong>, palveluvastaava (Porvoon kaupunginkirjasto)</p><p>klo 11.15-12.00 Välkommen till biblioteket! Kundservicesvenska /&nbsp;<strong>Catharina Latvala</strong>, palveluvastaava (Porvoon kaupunginkirjasto)</p><p>klo 12.00-13.00 Lunchpaus&nbsp;</p><p>klo 13.00-13.30 Kansalliskielistrategia – miten sitä meillä edistetään? Yhteinen työskentely /&nbsp;<strong>Päivi Jokitalo</strong>&nbsp;ja osallistujat</p><p>klo 13.30-14.30 Library English and presenting your library /&nbsp;<strong>Rebecca Hopkins</strong>, kirjastovirkailija (Tuusulan kunnankirjasto), <strong>Päivi Jokitalo</strong>&nbsp;ja osallistujat</p><p>klo 14.30-14.45 Afternoon coffee</p><p>klo 14.45-15.45 Book talk with Rebecca /&nbsp;<strong>Rebecca Hopkins</strong>, kirjastovirkailija (Tuusulan kunnankirjasto), <strong>Päivi Jokitalo</strong>&nbsp;ja osallistujat</p></blockquote><h2><strong>Lisätiedot</strong></h2><p>Koordinaattori Kaisa Palomäki<br>040 659 3021 / kaisa.palomaki(a)tampere.fi</p><p><em>Tilaisuuden järjestää Tampereen kaupunginkirjasto. Tampereen kaupunginkirjastolla on alueellinen kehittämistehtävä Pirkanmaan ja Keski-Suomen alueella. Kuvat ja tunnelmat somessa, käytä tunnistetta #akepike.</em></p>
LOCATION:Jyväskylän pääkirjasto / Wolmarinsali
END:VEVENT
END:VCALENDAR