BEGIN:VCALENDAR
VERSION:2.0
PRODID:-//kirjastotfi/procal//NONSGML v1.0//EN
BEGIN:VEVENT
DTSTART:20251008T090000
DTEND:20251008T100000
SUMMARY:Sinä riität!: Kirjastoseuran asiakaspalvelutyöryhmän etäaamukahvit
DESCRIPTION:<p>Asiakaspalvelutyöryhmä kutsuu kaikki kiinnostuneet etäaamukahveille ke 8.10. klo 9 keskustelemaan päivittäisen kirjastotyön jäsentämisestä ja priorisoinnista.<br><br>Tilaisuudessa kuullaan ja keskustellaan päivittäisen kirjastotyön jäsentämisestä ja priorisoinnista erilaisissa tilanteissa Kirjastoseuran asparyhmän kanssa. Tervetuloa mukaan!<br><br>Etäkahvien aikana esitellään Espoon kaupunginkirjaston Riittävän työsuorituksen huoneentaulu. Tutustumme myös asiakaspalvelun järjestämisen malleihin arjen tilanteissa, joissa työkaveri on poissa.</p><p>&nbsp;</p><p>Ilmoittaudu tilaisuuteen <a href="https://suomenkirjastoseura-lv.creamailer.fi/survey/w5pomkvvuycbf">täällä</a>, niin saat kutsun kahveille pari päivää ennen tapahtumaa. aamukahvit ovat maksuttomat ja avoimet kaikille.</p>
LOCATION:
END:VEVENT
END:VCALENDAR