BEGIN:VCALENDAR
VERSION:2.0
PRODID:-//kirjastotfi/procal//NONSGML v1.0//EN
BEGIN:VEVENT
DTSTART:20251114T090000
DTEND:20251114T150000
SUMMARY:Matkalla perillä – hakeutuva työ kirjastoissa -seminaari 14.11.2025
DESCRIPTION:<p>BMF ry:n syysseminaari Matkalla perillä – hakeutuva työ kirjastoissa järjestetään Helsingissä Tieteiden talolla 14.11.2025 klo 9:00-15:00.</p><p><a href="https://bmf.fi/wp-content/uploads/2025/09/bmf-syysseminaarin-ohjelma_14.11.2025.pdf">Ohjelma</a> ja <a href="https://docs.google.com/forms/d/e/1FAIpQLSeQNdeFnfpvb4GtuyxMJY4nmGL_xBTmTojNCZwx3NF-fbqGAg/viewform">ilmoittautuminen</a> Bmf:n nettisivuilla.</p><p>Ilmoittautuminen viimeistään 5.11.2025 klo 16.<br><br>&nbsp;</p>
LOCATION:Tieteiden talo, Kirkkokatu 6
END:VEVENT
END:VCALENDAR