BEGIN:VCALENDAR
VERSION:2.0
PRODID:-//kirjastotfi/procal//NONSGML v1.0//EN
BEGIN:VEVENT
DTSTART:20251028T140000
DTEND:20251028T150000
SUMMARY:E-kirjaston infotilaisuus 28.10.: E-kirjan saavutettavuustieto E-kirjastossa
DESCRIPTION:<p>E-kirjojen pitää olla saavutettavia ja niiden saavutettavuusominaisuudet pitää kuvata palvelussa. Tilaisuudessa Celian asiantuntijat kertovat lainsäädännöstä sekä saavutettavuusominaisuuksista. E-kirjasto kertoo, miten ja mistä e-kirjan saavutettavuustieto löytyy E-kirjasto-sovelluksessa.</p>
LOCATION:Webinaari
END:VEVENT
END:VCALENDAR