BEGIN:VCALENDAR
VERSION:2.0
PRODID:-//kirjastotfi/procal//NONSGML v1.0//EN
BEGIN:VEVENT
DTSTART:20251028T093000
DTEND:20251028T110000
SUMMARY:Erten etävinkit: Kokeillaanko tätä? Uusia ideoita kirjastotyöhön
DESCRIPTION:<p>Erten etävinkeillä 28.10. kuullaan, millaisia ideoita syntyy, kun opiskelijat saavat vapaat kädet tapahtumien ideointiin, ja miten kirjavinkkaukset ja satuhetket on viety Oulussa onnistuneesti verkkoon.</p><p><strong>OHJELMA 28.10. klo 9.30–11.00</strong></p><p>klo 9.30–10.10<br><strong>SeAMKin opiskelijoiden tapahtumaideat</strong></p><p>Millaisia ideoita syntyy, kun opiskelijat saavat vapaat kädet tapahtumien ideointiin? Tule kuulolle ja poimi valmiit ideat käyttöön! Tapahtumien suunnittelussa on pyritty ottamaan erityisesti huomioon pienten kirjastojen olosuhteet.</p><p>klo 10.10–<br><strong>Kirjastoreitti ja Lukumetka verkossa – Oulun kaupunginkirjaston etävinkkaukset ja etäsatuhetket</strong><br><em>Elina Kauppila ja Heidi Petrov</em></p><p>Tule kuulemaan miten kirjavinkkaukset ja satuhetket on viety onnistuneesti verkkoon. Mukana runsaasti käytännön vinkkejä ja kokemuksia. Kirjastoreitti ja Lukumetka ovat kirjaston yhteistyötä varhaiskasvatuksen ja opetuksen kanssa ja osa Oulun kaupungin lukutaitotyötä.</p><p>Tule mukaan linjoille ja keskustelemaan tai tilaa tallenne!</p><p><a href="https://link.webropolsurveys.com/EP/60E6835E308AA4E0"><strong>Ilmoittaudu mukaan tästä linkistä!</strong></a></p><p><em>Webinaari tallennetaan ja linkki tallenteeseen lähetetään kaikille tapahtumapäivään mennessä ilmoittautuneille. Tallenne on katsottavissa 12 päivän ajan. Pidätämme oikeuden ohjelmamuutoksiin.</em></p>
LOCATION:Teams
END:VEVENT
END:VCALENDAR