BEGIN:VCALENDAR
VERSION:2.0
PRODID:-//kirjastotfi/procal//NONSGML v1.0//EN
BEGIN:VEVENT
DTSTART:20251119T090000
DTEND:20251119T120000
SUMMARY:Yhteiset kokoelmat: yleisten kirjastojen valtakunnallinen kokoelma-aamupäivä
DESCRIPTION:<p>Alueellista ja valtakunnallista kehittämistehtävää hoitavat kirjastot järjestävät yhteistyössä vuoden toisen kokoelma-aiheisen koulutustilaisuuden. Aamupäivän aikana kuullaan ajankohtaisia puheenvuoroja kellutuksesta ja yhteisistä kokoelmista. Tilaisuus on seurattavissa Kirjastokaistalla. Kysymyksiä ja kommentteja voi lähettää koko tilaisuuden ajan esiintyjille chatin kautta.&nbsp;</p><p>Aamupäivän päättää yhteinen keskustelu, jossa paikalla ovat E-kirjasto, Monikielinen kirjasto ja Varastokirjasto. <strong>Keskustelu käydään kirjastojen toivomien teemojen ja kysymysten pohjalta</strong>.<strong> Kysymyksiä ja keskustelutoiveita voi lähettää oman AKE-alueen yhteyshenkilölle 2.10 saakka. </strong>Jos jokin asia herättää kysymyksiä, niin nyt on mahdollisuus lähettää kysymykset eteenpäin pohdittavaksi.</p><h2><br>Ohjelma</h2><p><br>9.30– 9.35 &nbsp;Tervetuloa koulutuspäivään, Annika Ilmola, Vaasan AKE<br><br>9.35–10.05 Se kelluu sittenkin! Kuntien välisen kellutuksen kokemuksia Pohjois-Pohjanmaalla. Kirsi Kataja, Raahen kaupunginkirjasto ja Heikki Lahnaoja, Pyhäjoen kunnankirjasto<br><br>10.05–10.35 Sun, mun ja meidän kokoelmat: ajatuksia kuntarajat ylittävästä kellutuksesta, Kaisa Hypén, Turun kaupunginkirjasto<br><br>10.35–10.45 Tauko<br><br>10.45–11.30 Yhteinen kokoelma, yhteinen juttu!<br>Kirjastolaisten kysymyksiä ja yhteistä pohdintaa. Vastaajina Anna Tuomikoski, E-kirjasto; Suvi Sivulainen, Monikielinen kirjasto ja Johanna Vesterinen, Varastokirjasto.&nbsp;<br>&nbsp;</p>
LOCATION:
END:VEVENT
END:VCALENDAR