BEGIN:VCALENDAR
VERSION:2.0
PRODID:-//kirjastotfi/procal//NONSGML v1.0//EN
BEGIN:VEVENT
DTSTART:20250918T121500
DTEND:20250918T134500
SUMMARY:Kuvakirjaa tutkimassa -luentosarja
DESCRIPTION:<p>Lastenkirjainstituutin syyslukukaudella 2025 toteutettavassa <strong>Kuvakirjaa tutkimassa</strong> -luentosarjassa kuullaan puheenvuoroja ajankohtaisesta kuvakirjantutkimuksesta, kuvakirjan historiallisesta kehityksestä, tutkimusmenetelmistä ja kuvitustekniikoista.</p><p>Luentosarjan puhujina on kotimaisia kuvakirjantutkijoita, väitöskirjan tekijöistä pitkän linjan tutkijoihin. Ulkomaisia puhujia on kolme, professori <strong>Bettina Kümmerling-Meibauer</strong> Saksasta, Tübingenin yliopistosta, apulaisprofessori <strong>Sarah Hoem Iversen</strong> Norjasta Bergenin yliopistosta sekä kirjallisuustieteen professori <strong>Elina Druker</strong> Tukholman yliopistosta.</p><p>Luennot pidetään Zoom-yhteydellä <strong>torstaisin klo 12.15–13.45</strong> alkaen 18.9. Luennot tulevat katsottavaksi luentosarjan Youtube-kanavalle noin viikon kuluttua luennosta.&nbsp;</p><p>Luennot ovat kaikille avoimia ja maksuttomia. Yliopistot ja korkeakoulut voivat vapaasti toteuttaa luentosarjan pohjalta omia opintokokonaisuuksiaan. Luennot ovat suomeksi, ruotsiksi tai englanniksi ja luentotallenteisiin tulee tekstitys suomeksi sekä alkukielellä.</p><p>Tutustu luentosarjan ohjelmaan ja katso Zoom- ja Youtube-linkit <a href="https://lastenkirjainstituutti.fi/asiantuntijapalvelut/seminaaritjaluennot/kuvakirjaa-tutkimassa-luentosarja">täältä</a>.</p><p>Luentosarja rahoitetaan Kuvittajat ry:n projektiavustuksella sekä Lasse Raustelan rahaston tuella.&nbsp;</p><p>Luentosarjan tunnuskuva: Mira Aro.</p>
LOCATION:
END:VEVENT
END:VCALENDAR