BEGIN:VCALENDAR
VERSION:2.0
PRODID:-//kirjastotfi/procal//NONSGML v1.0//EN
BEGIN:VEVENT
DTSTART:20251008T120000
DTEND:20251008T150000
SUMMARY:Vähemmistöt tutuiksi: edistä kulttuurista vuoropuhelua kirjastossa
DESCRIPTION:<p><strong>Mitä kirjastot tarjoavat ja miten ne näyttäytyvät kulttuurisille vähemmistöille? Mitä vaatii erilaisissa elämäntilanteissa tulla paikalle kirjastoon? Tässä tilaisuudessa kuullaan puheenvuorot Suomen saamelaiskulttuurista ja romanikulttuurista sekä niiden suhteesta kirjastoihin. Lisäksi pohditaan, millä tavoin kaikki saavat äänensä kuuluviin ja tulevat kohdatuiksi kirjastoissa.</strong></p><p>Saamelaista kulttuuria ja kirjallisuutta sekä Suomen saamelaisen erikoiskirjaston toimintaa avaa tilaisuuden ensimmäisessä osiossa erikoiskirjastonhoitaja <strong>Tiina Mäntylä</strong> (Suomen saamelainen erikoiskirjasto). Romanikulttuurista sekä romaniväestön yhdenvertaisuuden ja osallisuuden edistämisestä kertoo erikoissuunnittelija <strong>Katja Theresa Grenrot</strong> (Lounais-Suomen aluehallintovirasto). Puheenvuorossa kuullaan myös romanitoimijoiden ja kuntien välisen yhteistyön malleista sekä pohditaan, mitä yhteistyö voisi olla kirjastokontekstissa.</p><p>Tilaisuuden viimeisessä osiossa tarkastellaan, miten kirjasto voi tilanteesta riippumatta tarjota ihmisen omaan elinpiiriin sopivan mahdollisuuden osallisuuteen. Mitä voi vaatia tulla julkiseen tilaan ja miten pitkälle saattaa päästä yhden tervehtimisen voimalla? <a href="https://www.hdl.fi/nakymattomat-ohjelma/">Näkymättömät</a>-ohjelmajohtaja <strong>Heidi Rosbäck</strong> (Diakonissalaitos) puhuu kohtaamisen tunnistamisesta ja mahdollistamisesta eri tasoilla, ihmisyys edellä.</p><h2><strong>Aika, paikka ja ilmoittautuminen</strong></h2><p><strong>Vähemmistöt tutuiksi: edistä kulttuurista vuoropuhelua kirjastossa</strong><br><strong>Ke 8.10. klo 12-15</strong><br><strong>Etälähetys</strong></p><p><a href="https://elomake.tampere.fi/lomakkeet/31397/lomake.html">Ilmoittaudu mukaan oheisesta linkistä 3.10. mennessä.</a></p><blockquote><p><strong>Vinkki! </strong>Huomaa myös Tavoittaako nuorisotyö romaninuoret? -tilaisuus 17.9. Tilaisuuden järjestävät aluehallintovirastojen nuorisotoimi sekä romaniasioiden suunnittelijat. <a href="https://eventilla.avi.fi/event/2wzYw">Lisätiedot ja ilmoittautuminen aluehallintoviraston sivustolla.</a></p></blockquote><h2><strong>Ohjelma</strong></h2><p>Klo 12-12.10 Johdatus aiheisiin ja iltapäivään / <strong>Kehittämiskirjasto</strong></p><p>Klo 12.10-13.10 Saamelaista kulttuuria, kirjallisuutta ja erikoiskirjasto tutuksi / <strong>Tiina Mäntylä</strong>, erikoiskirjastonhoitaja (Suomen saamelainen erikoiskirjasto)</p><p>Klo 13.10-13.15 Tauko</p><p>Klo 13.15-14.00 Romanikulttuuria, kirjallisuutta ja hyvät yhteistyömallit tutuksi / <strong>Katja Theresa Grenrot</strong>, erikoissuunnittelija (Lounais-Suomen aluehallintovirasto)</p><p>Klo 14.00-14.05 Tauko</p><p>Klo 14.05-14.50&nbsp;Näkymättömyyden syyt, saapumisen kynnys ja kohdatuksi tulemisen tarve: esimerkkejä&nbsp;PiKe-alueelta ja muualta Suomesta&nbsp;/&nbsp;<strong>Heidi Rosbäck</strong>, Näkymättömät -ohjelmajohtaja (Diakonissalaitos)</p><p>Klo 14.50-15.00 Loppukeskustelu / <strong>Kehittämiskirjasto</strong></p><h2><strong>Lisätiedot</strong></h2><p>Koordinaattori Kaisa Palomäki<br>040 659 3021 / kaisa.palomaki(a)tampere.fi</p>
LOCATION:Etälähetys
END:VEVENT
END:VCALENDAR