BEGIN:VCALENDAR
VERSION:2.0
PRODID:-//kirjastotfi/procal//NONSGML v1.0//EN
BEGIN:VEVENT
DTSTART:20251118T133000
DTEND:20251118T160000
SUMMARY:Lukeminen on jokaisen oikeus -webinaari tiistaina 18.11.2025
DESCRIPTION:<h3>Lukeminen on jokaisen oikeus -webinaari</h3><h3>tiistaina 18.11.2025 klo 13.30–16:</h3><p>Saavutettavuuskirjasto Celia järjestää kirjastojen ja koulujen henkilökunnalle suunnatun Lukeminen on jokaisen oikeus -webinaarin marraskuussa.</p><p>Saat webinaarissa ideoita erilaisten lukijoiden tukemiseen ja kuulet lukemisen eri muodoista. Teemme iltapäivän aikana matkan lasten- ja nuortenkirjallisuuden tutkimuksesta käytännön vinkkeihin, sanataiteeseen sekä lapsia ja nuoria koukuttaviin kauhu- ja jännityskirjoihin. Mukana on useita alan ammattilaisia, kuten lasten- ja nuortenkirjallisuudessa ansioitunut, lainatuimpien kirjailijoiden joukkoon kuuluva kirjailija <strong>Magdalena Hai</strong> sekä lasten lukuinnostusta tutkinut yliopistonlehtori<strong> Juli-Anna Aerila</strong>.</p><p><a href="https://link.webropol.com/s/lukeminenonjokaisenoikeus">Katso tarkempi ohjelma ja ilmoittaudu mukaan!</a></p><p><em>Webinaari on osa Saavutettavuuskirjasto Celian ja yleisten kirjastojen järjestämää Lukeminen on jokaisen oikeus -kampanjaa, joka vahvistaa kirjastojen ja koulujen lukutaitotyötä. Tavoitteena on auttaa lukemisessa tukea tarvitsevia lapsia ja nuoria löytämään Celian lukemista helpottavat äänikirjat. Kampanja-aika on 10.–21.11.2025</em>.</p>
LOCATION:Teams
END:VEVENT
END:VCALENDAR