BEGIN:VCALENDAR
VERSION:2.0
PRODID:-//kirjastotfi/procal//NONSGML v1.0//EN
BEGIN:VEVENT
DTSTART:20250916T093000
DTEND:20250916T110000
SUMMARY:Erten etävinkit: Kutsuttaisko kaikki kirjastoon? Vinkkejä ja tukea toiminnan suunnitteluun
DESCRIPTION:<p>Erten etävinkeillä 16.9. kuullaan Saavutettavampi harrastus -toimintamallista, Hämeenlinnan kaupunginkirjaston kirjastostartista ja kirjastosuunnistuksesta, sekä tutustutaan Kirjastojen Kopiraittila -sivuihin.</p><p><strong>OHJELMA 17.9. klo 9.30–11.00</strong></p><p>klo 9.30–10.00<br><strong>Kirjastojen Kopiraittila</strong><br>Kopiosto on avannut uudet Kirjastojen Kopiraittila -sivut, joissa keskitytään juuri meitä kirjastolaisia koskeviin tekijänoikeusasioihin.<br>Gia Signell, Kopiosto</p><p>klo 10.00–10.30<br><strong>Saavutettavampi harrastus -toimintamalli</strong><br>Saavutettavampi harrastus -toimintamalli&nbsp;auttaa ottamaan huomioon lasten ja nuorten moninaisuuden toimintaa suunniteltaessa. Voisiko sinun kirjastosi ottaa käyttöön Saavutettavampi harrastus -asennemerkin?<br>Tetti Tuhkio, Suomen lastenkulttuurikeskusten liitto ry</p><p>klo 10.30–11.00<br><strong>Hämeenlinnan kaupunginkirjaston kirjastostartit sekä kujeelliset kirjastosuunnistukset</strong><br>Hämeenlinnan kaupunginkirjaston Katja ja Ulla&nbsp;tulevat kertomaan meille<strong>&nbsp;</strong>kirjastostarteista, jotka jalkautuvat kouluille kirjastoauton kyydissä sekä 4.-6. -luokkalaisille sopivasta kirjastosuunnistuksesta, joka tutustuttaa kirjastoon sanataiteen keinoin.<br>Katja Malmi ja Ulla Karila</p><p>Tule mukaan linjoille ja keskustelemaan tai tilaa tallenne!</p><p><a href="https://link.webropolsurveys.com/EP/DE78D2CF5F136061"><strong>Ilmoittaudu mukaan tästä linkistä!</strong></a></p><p><em>Webinaari tallennetaan ja linkki tallenteeseen lähetetään kaikille tapahtumapäivään mennessä ilmoittautuneille. Tallenne on katsottavissa 12 päivän ajan. Pidätämme oikeuden ohjelmamuutoksiin.</em></p>
LOCATION:Teams
END:VEVENT
END:VCALENDAR