BEGIN:VCALENDAR
VERSION:2.0
PRODID:-//kirjastotfi/procal//NONSGML v1.0//EN
BEGIN:VEVENT
DTSTART:20250826T090000
DTEND:20250826T110000
SUMMARY:Kouluyhteistyön etäkahvit: Uusia ideoita yhteistyöhön ja mediakasvatukseen
DESCRIPTION:<h2>Tervetuloa Lahden AKEn ja AKE Porvoon yhteisille kouluyhteistyön etäkahveille aloittamaan uutta lukuvuotta!</h2><p>Etäkahvien aluksi <strong>Outi Kytöniemi</strong> tuo ajankohtaiset kuulumiset Seinäjoen lasten ja nuorten erityistehtävästä Ertestä. Pedagoginen informaatikko <strong>Hanne Hauska</strong> kertoo kouluyhteistyöstä ja lukutaitotyöstä Järvenpäässä. Koulukirjastoja on Järvenpäässä niin peruskouluissa kuin lukiossakin. Kirjasto hallinnoi vahvasti koulukirjastotoimintaa. Lisäksi Järvenpäässä on tekeillä lukutaitosuunnitelma, joka tuo sidosryhmille näkyväksi kirjaston lukutaitoon liittyvää perustyötä.</p><p>Yhteisöpedagogiksi (AMK) valmistunut <strong>Krista Tuominen</strong> Lahden kaupunginkirjastosta esittelee tuoretta opinnäytetyötään Mediakasvatus NYT!, jossa on kehitetty alakoululaisille suunnattuja mediakasvatuspalveluita. Hän selvitti, millaisia mediakasvatuspalveluja kirjaston tulisi tarjota alakouluille sekä arvioi mediakasvatuspalveluja, ottaen huomioon kirjaston rajalliset henkilöstöresurssit ja koulujen tarpeet.</p><p><a href="https://www.theseus.fi/bitstream/handle/10024/883799/Tuominen_Krista.pdf?sequence=2">Tutustu Kristan opinnäytetyöhön</a></p><h2>Aikataulu</h2><p>9.00 <strong>Tervetuloa!</strong> Noora Oluikpe ja Tiina Rajala</p><p>9.05 <strong>Erten ajankohtaiset kuulumiset</strong>, Outi Kytöniemi, Seinäjoen kaupunginkirjaston lasten ja nuorten lukutaitoa ja lukemista edistävien kirjastopalvelujen valtakunnallinen erityistehtävä</p><p>9.15 <strong>Koulukirjasto- ja lukutaitotyötä Järvenpäässä</strong>, Hanne Hauska, Järvenpään kaupunginkirjasto</p><p>10.00 <strong>Mediakasvatuspalveluiden kehittäminen osana kouluyhteistyötä</strong>, Krista Tuominen, Lahden kaupunginkirjasto</p><p>10.45–11 Keskustelua ja tilaisuuden päätös</p><h2>Osallistuminen ja kohderyhmä</h2><p>Etäkahveille ovat tervetulleita kaikki aiheesta kiinnostuneet kirjastolaiset. Toivomme, että mahdollisimman moni osallistuisi etäkahveille kameran ja mikrofonin kera. Osallistuminen keskusteluun on kuitenkin vapaaehtoista ja mukaan voi tulla kuuntelemaankin. Tule mukaan kahveille Teams-linkin kautta:</p><p><a href="https://teams.microsoft.com/l/meetup-join/19%3ameeting_Zjg4ZmI4YjQtYmZiOC00N2FmLTk5MTYtYzA2ODI0YTBiMGE5%40thread.v2/0?context=%7b%22Tid%22%3a%22498c67c0-b7e8-4172-8d13-787d1b3aae5c%22%2c%22Oid%22%3a%22c9b3dc7f-55ec-4240-8b4b-f43cfdb3a34a%22%7d">Osallistumislinkki kouluyhteistyön etäkahveille</a></p><h2>Lisätietoa</h2><p>Tiina Rajala, informaatikko (Porvoon AKE), puh. 040 539 6368, tiina.rajala@porvoo.fi</p><p>Noora Oluikpe, sisältökoordinaattori (Lahden AKE), puh. 044 482 6154, noora.oluikpe@lahti.fi</p>
LOCATION:Teams
END:VEVENT
END:VCALENDAR