BEGIN:VCALENDAR
VERSION:2.0
PRODID:-//kirjastotfi/procal//NONSGML v1.0//EN
BEGIN:VEVENT
DTSTART:20251105T090000
DTEND:20251105T100000
SUMMARY:Vaikuttava kirjasto ‑kampanjan etäkahvit kirjastoille (kampanjan päätös)
DESCRIPTION:<p>Näillä etäkahveilla keskustellaan Lahden AKEn koordinoimasta, kirjastojen yhteisestä Vaikuttava kirjasto ‑kampanjasta. Kampanjan tavoitteena on lisätä päättäjien tietämystä yleisten kirjastojen palveluista sekä vuoropuhelua kirjastojen ja päättäjien välillä.</p><p>Tervetuloa mukaan jakamaan ideoita ja vaihtamaan kuulumisia! Miten teidän kirjastossanne on tavoitettu kuntapäättäjät? Millaisia tilaisuuksia kampanjan aikana on järjestetty, tai miten muuten materiaaleja on hyödynnetty?</p><h2><strong>Vaikuttava kirjasto ‑kampanja 1.9. - 31.10.2025</strong></h2><p>Voitte olla mukana kampanjassa:</p><ul><li>kutsumalla kuntapäättäjät kirjastoonne valitsemananne ajankohtana</li><li>jalkautumalla valtuuston tai lautakunnan kokoukseen</li><li>jakamalla paperisia esitteitä tai esittelemällä Powerpointin tai</li><li>hyödyntämällä visuaalista ilmettä ja julkaisupohjia omilla sosiaalisen median kanavilla tai muussa viestinnässä</li></ul><p><a href="https://lahdenake.fi/artikkelit/vaikuttava-kirjasto-%e2%80%91kampanja-toteutetaan-myos-syksylla-2025/">Lisätietoa kampanjasta.</a></p><h2><strong>Mukaan kampanjaan ja etäkahveille</strong></h2><p><a href="https://link.webropolsurveys.com/EP/81D1D92EF8071476">Voit ilmoittautua mukaan kampanjaan</a>, jolloin saat käyttöösi kampanjan sähköiset materiaalit ja kutsut etäkahveille ja muihin yhteisiin tilaisuuksiin.</p><p>Etäkahvien Teams-kutsut jaetaan kampanjaan ilmoittautuneille sekä Lahden AKE-alueen kirjastojen yleisiin sähköposteihin, josta niitä voi välittää eteenpäin kirjastojen henkilökunnalle.</p><p><a href="https://lahdenake.fi/koulutus/vaikuttava-kirjasto-%e2%80%91kampanjan-etakahvit-kirjastoille-2/">Teams-linkki lisätään myös koulutusilmoitukseen</a> lähempänä tilaisuutta.</p>
LOCATION:Teams
END:VEVENT
END:VCALENDAR