BEGIN:VCALENDAR
VERSION:2.0
PRODID:-//kirjastotfi/procal//NONSGML v1.0//EN
BEGIN:VEVENT
DTSTART:20251023T070000
DTEND:20251023T183000
SUMMARY:Kohteena kirja-alan sivistys ja ilo! Oppimisvierailu Helsingin kirjamessuille
DESCRIPTION:<p><strong>PiKen oppimisvierailut jatkuvat yhteislähdöllä Keski-Suomesta alkaen Helsinkiin! Tutustumme yhden päivän aikana kirjasto-, kulttuuri- ja kustannusalojen tuottamaan sivistykseen ja iloon – teemoihin, jotka ovat esillä myös kehittämiskirjaston vuoden toiminnassa. Oppimisvierailu koostuu sekä yhteisestä kurkistamisesta kirjamessujen kulisseihin että mahdollisuudesta itse messuohjelman seuraamiseen oppimisvierailun aikataulun mukaisesti.</strong></p><p>Helsingin Kirjamessuilla vietetään tänä vuonna 25-vuotisjuhlaa teemalla Sivistys ja ilo! Teema pitää sisällään kirjallisuuden kautta saatavan sivistyksen voiman ja lukemisen ilon. ”Helsingin Kirjamessut on ollut lukevan Suomen suuri juhla jo neljännesvuosisadan. Juhlavuonna puhumme siitä, mitä paras kirjallisuus meille antaa: sivistyksen voimasta ja lukemisen ilosta. Molempia tämä aika kaipaa kipeästi”, kuvaa Helsingin Kirjamessujen ohjelmajohtaja&nbsp;<strong>Ville</strong>&nbsp;<strong>Blåfield</strong>&nbsp;teeman taustoja.&nbsp;<a href="https://www.messukeskus.com/news/helsingin-kirjamessut-nostaa-25-vuotisjuhlamessujen-teemaksi-sivistyksen-ja-ilon/">Tutustu tarkemmin ohesta.</a></p><p>Oppimisvierailuun sisältyy siirtyminen ja yhden päivän lippu kirjamessuille sekä yhteinen keskustelu kirjaston ja kulttuurin merkityksestä. Kuulemme esittelyn kirjamessuista lukuharrastuksen, kulttuurin ja kirjailijoiden työn edistämisessä ja vuoden 2025 teeman valikoitumisesta. Tule mukaan kokemaan myös, millaista suunnittelua, yhteistyötä ja organisointia messut vaativat vuosittain järjestäjätaholta lukemiskulttuurin ja kirjastoille läheisissä arvoissa sananvapaus, yhdenvertaisuus ja ihmisarvon kunnioittaminen!&nbsp;</p><h2><strong>Lisätiedot ja ilmoittautuminen</strong></h2><p><strong>Kohteena kirja-alan tulevaisuus! Oppimisvierailu Helsingin kirjamessuille Helsinkiin</strong><br><strong>To 23.10. klo 7.00–18.30</strong><br><strong>Oppimisvierailu</strong></p><p>Mukaan mahtuu 20 kirjastolaista Pirkanmaan ja Keski-Suomen kirjastoista.&nbsp;<a href="https://elomake.tampere.fi/lomakkeet/31241/lomake.html">Pääset ilmoittautumaan vierailulle oheisella lomakkeella 7.10.2025 mennessä</a>. Tarkennettu ohjelmamme julkaistaan messuohjelman julkaisemisen yhteydessä viimeistään alkusyksystä 2025.</p><h2><strong>Ohjelma ja matkan aikataulu</strong></h2><p>Aikataulu on suuntaa-antava,&nbsp;<em>reitti etenee raideliikenteenä.</em>&nbsp;Ajantasaiset tiedot löydät osoitteesta&nbsp;akepike.fi.</p><p>Klo 7.19 Lähtö Jyväskylän rautatieasemalta junalla (Hannikaisenkatu 20, 40100 Jyväskylä)</p><p>Klo 9.00 Lähtö Tampereen rautatieasemalta junalla (Rautatienkatu 25, 33100 Tampere)&nbsp;</p><p>Klo 10.30–11.00 Siirtyminen Messukeskukseen ja kirjamessualueelle (Messuaukio 1, 00520 Helsinki), tavarat varattuun tilaan (<a href="https://www.messukeskus.com/tilat/210/">kokoustila 210</a>, Siipi, 2. krs, Messukeskus) ja kahvilipukkeiden jako</p><p>Klo 11.00-11.30 Yhteinen keskustelu ja esittely kirjamessujen tapahtumajärjestämisestä (<a href="https://www.messukeskus.com/tilat/210/">kokoustila 210</a>, Siipi, 2. krs, Messukeskus)) / <strong>Ville Blåfield</strong>, ohjelmajohtaja (Helsingin kirjamessut)</p><p>Klo 11.30–12.30&nbsp; Lounas (omakustanteinen)</p><ul><li>klo 11.30-12 Messuohjelman vapaavalintaista seuraamista</li></ul><p>Klo 12.30–15.30 Oppimisvierailu Kirjamessuilla (Messualueet sekä <a href="https://www.messukeskus.com/tilat/210/">kokoustila 210</a>, Siipi, 2. krs, Messukeskus)</p><ul><li>klo 12.30-13.30 Vapaata kiertämistä messualueella, mahdollisia puheenvuoropoimintoja seurattavaksi päivitetään mukaan tähän ohjelmaan.</li><li>klo 13.30-14.00 Mahdollisuus hengähtää taukotilassa</li><li>klo 14.00-15.30 Vapaata kiertämistä messualueella, mahdollisia puheenvuoropoimintoja seurattavaksi päivitetään mukaan tähän ohjelmaan.</li></ul><p>Klo 15.30–16.00 Siirtyminen takaisin Messukeskuksesta Pasilan asemalle (Ratapihantie 6 00520 Helsinki)&nbsp;</p><p>Klo 16.06 Lähtö Pasilan asemalta (Ratapihantie 6 00520 Helsinki) kohti omien kuntien rautatieasemia.</p><p><em>Oppimisvierailun järjestää Tampereen kaupunginkirjasto. Tampereen kaupunginkirjastolla on alueellinen kehittämistehtävä Pirkanmaan ja Keski-Suomen alueella. Kuvat ja tunnelmat somessa, käytä tunnistetta: #akepike</em></p><p><em>Artikkelikuva:&nbsp;</em><a href="https://mediabank.messukeskus.com/kuvat/Helsingin+Kirjamessut+%7C+Helsinki+Book+Fair/Bannerit+2025+%7C+Banners+2025/Web/Kirja25_OlemmeMukana_1200x628_FI.jpg"><em>Helsingin kirjamessujen mediapankki</em></a></p><h2><strong>Lisätiedot</strong></h2><p>Koordinaattori Juliaana Grahn<br>040 800 7828<br>juliaana.grahn(a)tampere.fi</p>
LOCATION:Messukeskus
END:VEVENT
END:VCALENDAR