BEGIN:VCALENDAR
VERSION:2.0
PRODID:-//kirjastotfi/procal//NONSGML v1.0//EN
BEGIN:VEVENT
DTSTART:20250916T090000
DTEND:20250916T093000
SUMMARY:Celian kyselytunti kirjastoille
DESCRIPTION:<p>Syksyn ensimmäinen&nbsp;kyselytunti Teamsissa tiistaina 16.9.2025 klo 9.00 – 9.30. Aiheina syksyn webinaarit kirjastoille ja henkilöasiakkaille, kuuntelutavat 1.10. alkaen ja marraskuun kirjastokampanja.</p><p>Tervetuloa mukaan! Ei ennakkoilmoittautumista.&nbsp;</p>
LOCATION:verkossa
END:VEVENT
END:VCALENDAR