BEGIN:VCALENDAR
VERSION:2.0
PRODID:-//kirjastotfi/procal//NONSGML v1.0//EN
BEGIN:VEVENT
DTSTART:20250908T130000
DTEND:20250908T150000
SUMMARY:Kansainvälisen lukutaitopäivän tapahtuma Median museo ja arkisto Merkissä
DESCRIPTION:<h2>Merkillisen hyvä syy lukea!<br>Kansainvälisen lukutaitopäivän tapahtuma 8.9.2025 Median museo ja arkisto Merkissä</h2><p>Tervetuloa inspiroitumaan lukemisesta Kansainvälisenä lukutaitopäivänä maanantaina 8. syyskuuta 2025 klo 13–15. Tapahtumassa käsitellään lukutaitoa, innostavaa luettavaa ja lukemisen edistämistä eri näkökulmista.<br>Voit osallistua paikan päällä Median museo ja arkisto Merkissä (Ludviginkatu 2–4, Helsinki) tai seurata ohjelmaa suorana osoitteessa <a href="https://www.kirjastokaista.fi/live/">www.kirjastokaista.fi/live</a>. Esitykset ovat katsottavissa myös tapahtuman jälkeen Kirjastokaistalla.</p><h2>Ohjelma</h2><p>klo 13.00–13.30<br>Suomen kirjastoseuran hallituksen puheenjohtaja Laura Rissanen kertoo, miten kirjastoissa tehdään lukutaitotyötä ja sankaritekoja joka päivä.</p><p>klo 13.45–14.15<br>Lavastaja Katariina Kirjavainen kertoo, miten kirjallinen teksti muuttuu kolmiulotteisiksi maailmoiksi. Kirjavainen on suunnitellut Median museo ja arkisto Merkin Vinksin vonksin – Peppi Pitkätossu 80 vuotta -näyttelyn.</p><p>klo 14.30–15.00<br>Lukukeskuksen toiminnanjohtaja Emmi Jäkkö haastattelee Paula Norosta, jonka teoksissa on mukana peppimäistä anarkiaa. Keskustelun aiheena on mm. lasta puhuttelevan kirjallisuuden merkitys lukutaidon kehittymiselle.</p><p>Tapahtuman tunnelmaa täydentää Median museo ja arkisto Merkissä esillä oleva Peppi-näyttely, joka tarjoaa mainiot puitteet lukemisen tarkastelulle.</p><p>Tapahtuman järjestävät yhteistyössä: Median museo ja arkisto Merkki, Kirjastokaista, Suomen kirjastoseura ja Lukukeskus</p><p>&nbsp;</p>
LOCATION:
END:VEVENT
END:VCALENDAR