BEGIN:VCALENDAR
VERSION:2.0
PRODID:-//kirjastotfi/procal//NONSGML v1.0//EN
BEGIN:VEVENT
DTSTART:20250919T100000
DTEND:20250919T161500
SUMMARY:Lastenkirja yhteiskunnassa - yhteiskunta lastenkirjassa
DESCRIPTION:<p>Lastenkirjainstituutin asiantuntijaseminaari <strong>Lastenkirja yhteiskunnassa - yhteiskunta lastenkirjassa</strong> järjestetään Tampereella Museokeskus Vapriikin auditoriossa perjantaina 19.9.2025 klo 10.00-16.15.</p><p>Seminaarissa pohditaan lasten- ja nuortenkirjallisuuden yhteiskunnallista asemaa, vallankäyttöä lastenkirjallisuuden kannalta sekä lasten ja nuorten osallisuutta kirjallisuudessa. Esillä ovat yhteiskunnallisia aiheita käsittelevät lasten- ja nuortenkirjat.</p><p>Seminaari on avoin kaikille lasten- ja nuortenkirjallisuudesta kiinnostuneille. Seminaarin hinta on 60 €, Lastenkirjainstituutin kannatusyhdistys ry:n jäseniltä 50 € ja päätoimisilta tutkinto-opiskelijoilta 25 €. Osallistumismaksu sisältää ohjelman ja iltapäiväkahvin.</p><p>Tutustu seminaarin ohjelmaan ja ilmoittaudu mukaan 1.9.2025 mennessä: <a href="https://lastenkirjainstituutti.fi/seminaari2025">https://lastenkirjainstituutti.fi/seminaari2025</a></p><p>Seminaari toteutetaan Tradekan säätiön tuella.</p>
LOCATION:Vapriikin auditorio: Alaverstaanraitti 5, 33101 Tampere.
END:VEVENT
END:VCALENDAR