BEGIN:VCALENDAR
VERSION:2.0
PRODID:-//kirjastotfi/procal//NONSGML v1.0//EN
BEGIN:VEVENT
DTSTART:20250826T150000
DTEND:20250826T160000
SUMMARY:Webinaari Celian verkkopalveluista 26.8.
DESCRIPTION:<h3><strong>Webinaarit Celian verkkopalveluista:</strong></h3><p>Saavutettavuuskirjasto Celia järjestää webinaareja Celian verkkopalvelujen käytöstä vuonna 2025. Webinaareja on sekä suomeksi että ruotsiksi keväällä ja syksyllä. Webinaarissa tutustutaan Celianet-verkkopalvelun ja Pratsam Reader -sovelluksen käyttöönottoon ja ominaisuuksiin. <a href="https://www.celianet.fi/content/uploads/2025/04/Celian-verkkopalvelut-pahkinankuoressa.pdf">Katso webinaarin diat (pdf)</a></p><p>Webinaari on suunnattu sinulle, jos olet<br>• Celian asiakas<br>• asiakkaan yhteyshenkilö (omainen, ystävä, huoltaja, avustaja yms.)<br>• kirjastojen tai koulujen henkilökuntaa.</p><p>Koulutuksiin ovat tervetulleita niin vasta-alkajat kuin jo pidempään palvelua käyttäneet! Webinaarit ovat maksuttomia ja ne eivät vaadi ennakkoilmoittautumista.</p><p><strong>Merkitse ajankohta kalenteriisi ja liity mukaan Teams-linkin kautta:</strong></p><p><a href="https://urly.fi/3LQv"><strong>ti 26.8. klo 15-16&nbsp;</strong></a><br>&nbsp;</p><p>&nbsp;</p>
LOCATION:Teams
END:VEVENT
END:VCALENDAR