BEGIN:VCALENDAR
VERSION:2.0
PRODID:-//kirjastotfi/procal//NONSGML v1.0//EN
BEGIN:VEVENT
DTSTART:20250925T120000
DTEND:20250925T143000
SUMMARY:Nuoret ja kirjastojen rooli 
DESCRIPTION:<p><strong>Sisältö</strong></p><p>Nuorten elämän ajankohtaiset ilmiöt 2025<br>Nuorten kohtaaminen ja vuorovaikutustilanteet kirjastoissa<br>Tilanteiden käsittely käytännön esimerkkien kautta osallistavasti<br>Lyhyt katsaus mihin ohjata nuorta, jonka tilanteesta ollaan huolissaan – linkit paikallisiin palveluihin ja lastensuojeluilmoituksen tekeminen</p><p><strong>Kouluttajat</strong></p><p>Iltapäivän kouluttajat tulevat Diakonissalaitoksen Yhdessä elämisen taitokeskuksesta. Diakonissalaitoksella on paljon kokemusta nuorten kohtaamisesta Vamos‑toiminnan kautta.</p>
LOCATION:Teams
END:VEVENT
END:VCALENDAR