BEGIN:VCALENDAR
VERSION:2.0
PRODID:-//kirjastotfi/procal//NONSGML v1.0//EN
BEGIN:VEVENT
DTSTART:20250911T130000
DTEND:20250911T140000
SUMMARY:Kirjastotoimen lakiwebinaari: käyttökiellon antaminen kirjastossa
DESCRIPTION:<p><span>Aluehallintovirastojen kirjastotoimen järjestämässä webinaarissa palataan tarkastelemaan lain ja arjen käytäntöjen kautta käyttökiellon antamista kirjastossa. Asiantuntija-alustajana tilaisuudessa on kirjastotoimenjohtaja Päivi Savinainen Kuopion kaupunginkirjastosta.</span></p><h3><span>Kohderyhmä</span></h3><p><span>Kuntien kirjastotoimen henkilöstö</span></p><h3><span>Muut tiedot</span></h3><p><span>Tilaisuus tallennetaan ja linkki toimitetaan ilmoittautuneille. Muutokset ohjelmaan ovat mahdollisia.</span></p>
LOCATION:Microsoft Teams
END:VEVENT
END:VCALENDAR