BEGIN:VCALENDAR
VERSION:2.0
PRODID:-//kirjastotfi/procal//NONSGML v1.0//EN
BEGIN:VEVENT
DTSTART:20251113T100000
DTEND:20251114T160000
SUMMARY:Lukulystit 2025
DESCRIPTION:<p>Lukulystit 2025 järjestetään lähitapahtumana Seinäjoella 13.–14.11.2025. Päivien tämän vuoden teemana on <em>Eniten lukemisen tukea tarvitsevien lasten ja nuorten lukemisen edistäminen.</em>&nbsp;Tapahtuman alustava ohjelma on nyt julkaistu <a href="http://www.lukulystit.fi/">Lukulystien nettisivuilla</a>.</p><p>Ohjelma täydentyy kesän ja syksyn aikana, ja ilmoittautuminen tapahtumaan avataan syksyllä 2025.</p><p>Lämpimästi tervetuloa Lukulysteille!</p>
LOCATION:Seinäjoen kaupunginkirjasto ja Kaupungintalo
END:VEVENT
END:VCALENDAR