BEGIN:VCALENDAR
VERSION:2.0
PRODID:-//kirjastotfi/procal//NONSGML v1.0//EN
BEGIN:VEVENT
DTSTART:20250923T130000
DTEND:20250923T143000
SUMMARY:Lukutaitotyötä kirjastoautossa
DESCRIPTION:<p>AKE Porvoo järjestää syksyllä 2025 kaksi kirjastoautotyöntekijöille suunnattua webinaaria, aiheina lukutaitotyö ja tapahtumat kirjastoautossa.</p><p>Ensimmäisessä webinaarissa 23.9. klo 13-14.30 kuullaan ensisijaisesti lapsille suunnatusta lukutaitotyöstä kirjastoautossa Tuusulan ja Vantaan esimerkkien innoittamana. Alkusanat webinaarille lausuu <strong>Niina Kuusniemi</strong>, Kirjastoseuran kirjastoautotyöryhmän puheenjohtaja Tuusulan kirjastosta.</p><h2>Ohjelma</h2><p>13.00–13.15 Tervetuloa! <strong>Niina Kuusniemi</strong>, Tuusulan kunnankirjasto &amp; <strong>Elina Karioja</strong>, AKE Porvoo</p><p>13.15-13.45 Kirjavinkkarit kirjastoautossa. <strong>Heli Häkli</strong> ja <strong>Niina Kuusniemi</strong>, Tuusulan kunnankirjasto</p><p>13.45-14.15 Lukuintoa Vantaalta. <strong>Juha Pönni</strong>, Vantaan kaupunginkirjasto</p><p>14.15-14.30 Kysymyksiä, kommentteja ja jatkopohdintoja</p><h2>Tuleeko tallenne?</h2><p>Tuusulan ja Vantaan esitykset tallennetaan ja ne tulevat saataville AKE Porvoon Youtube-kanavalle. Tiedotamme tallenteista vielä erikseen Uudenmaan kirjastoautojen yleisiin sähköposteihin.</p><p><a href="https://www.youtube.com/@akeporvoo"><strong>AKE Porvoon Youtube-kanava</strong></a></p><h2>Kenelle?</h2><p>Tilaisuus on suunnattu kaikille kirjastoautoissa työskenteleville sekä lukutaitotyöstä kiinnostuneille. Mukaan voi liittyä myös Uudenmaan ulkopuolelta. Ennakkoilmoittautumista ei tarvita.</p><p><a href="https://teams.microsoft.com/l/meetup-join/19%3ameeting_NTY1NzUxM2EtZDI5NS00ZGU2LWFkZGMtMTg5ZDg0N2FlMWVj%40thread.v2/0?context=%7b%22Tid%22%3a%22ca8dd34c-ed0b-4236-92cb-5644bfcfaed6%22%2c%22Oid%22%3a%22e541d5ec-347e-45c2-89f1-1bfbb9dba5ca%22%7d"><strong>Liity mukaan webinaariin tästä Teams-linkistä</strong></a></p><h2>Lisätietoja</h2><h5>Elina Karioja</h5><p>Informaatikko</p><p><a href="mailto:Elina.Karioja@porvoo.fi">Elina.Karioja@porvoo.fi</a><a href="tel:+358406102218">&nbsp;</a></p><p><a href="tel:+358406102218">+358 40 610 2218</a></p>
LOCATION:Teams
END:VEVENT
END:VCALENDAR