BEGIN:VCALENDAR
VERSION:2.0
PRODID:-//kirjastotfi/procal//NONSGML v1.0//EN
BEGIN:VEVENT
DTSTART:20250829T100000
DTEND:20250829T113000
SUMMARY:PiKen verkostokahvit: Lanun kouluyhteistyöpulinat
DESCRIPTION:<p><strong>PiKe-alueen lasten- ja nuortenkirjastotyön verkoston järjestämät Verkostokahvit! Kokoonnumme perjantaina 29.8. klo 10.00 linjoille etäyhteyksin vaihtamaan ajatuksia kirjastoalan ajankohtaisista asioista. Tervetuloa mukaan kahvittelemaan, keskustelemaan ja oppimaan uutta yhdessä muiden kollegoiden kanssa. </strong>☕</p><p>Verkostokahveilla tutustumme menetelmiin, joilla lukutaitotyötä, kirjavinkkausta sekä lukemaan innostamista on toteutettu eri kirjastoissa PiKe-alueella. Mukana esittelemässä lasten- ja nuortenkirjastotyön verkoston jäseniä. Osallistumalla pääset kuulemaan myös ajankohtaisista lukutaitotyön onnistumisista alueemme kirjastoissa sekä jakamaan omat ideasi.</p><h2><strong>Opiskelumateriaalit</strong></h2><p>Verkostokahvien esitysmateriaalit päivitetään oheen tilaisuuden jälkeen.</p><p>Laukaan Kirjaston laatima Kirjametro yläkoululaisille: <a href="https://www.laukaa.fi/asukkaat/wp-content/uploads/sites/2/2024/12/ylakoululaisten-kirjametro.pdf">Kirjametro</a>&nbsp;</p><blockquote><p>Verkostojen kuuma linja, jonka kautta pääsee osallistumaan toimintaan ja kokouksiin eri tavoin: <a href="https://akepike.fi/verkostojen-kuuma-linja/">Verkostojen kuuma linja | Akepike</a>&nbsp;<br>Verkostojen jäsenlistasivu, johon myös muistiot kootaan: <a href="https://akepike.fi/verkostot/tiimit/">Tiimit | Akepike</a>&nbsp;<br>Dear lanu&nbsp;– vastauksia ja kysymyksiä lasten- ja nuortenkirjastotyöstä:<br><a href="https://miro.com/app/board/uXjVKiRfrRE=/?moveToWidget=3458764599142385396&amp;cot=14">Voit heittää kysymyksiä lanuverkostolle Dear lanu -alustan kautta oheisesta linkistä.</a>&nbsp;</p></blockquote><h2><strong>Aikataulu ja ohjelma</strong></h2><p><strong>Piken verkostokahvit: Lanun kouluyhteistyöpulinat</strong><br><strong>Pe 29.8.2025 klo 10-11.30</strong><br><strong>Etälähetys</strong></p><p>Osallistu ilman ennakkoilmoittautumista osoitteessa akepike.fi.</p><p>Klo 10.00–10.15 Noin viikon kirjastouutiset /<strong> Akepike ja verkostot</strong></p><p>Klo 10.15–10.30 Seiskoille tehdyt kyselyt sekä lukemisen huoneentaulut / <strong>Minna Edgren</strong></p><p>10.30–10.45 Lukukerho / <strong>Minna Edgren</strong></p><p>10.45–11 Laukaan Kirjametro yläkoululaisille / <strong>Jonna Pennanen</strong></p><p>11–11.30 Yhteistä keskustelua lukutaitotyöstä. Jaa parhaat vinkkisi kouluyhteistyöhön! Mitä uutta, vanhaa, (sinistä) ja lainattua aiot kokeilla lukuvuonna 2025-2026?</p><p><em>Tilaisuuden järjestää Tampereen kaupunginkirjasto. Tampereen kaupunginkirjastolla on alueellinen kehittämistehtävä Pirkanmaan ja Keski-Suomen alueella. Kuvat ja tunnelmat somessa, käytä tunnistetta: #akepike.</em></p><h2><strong>Lisätiedot</strong></h2><p>Lanuverkoston puheenjohtaja, koordinaattori Marjo Mannila<br>marjo.r.mannila(a)tampere.fi</p><p>Projektisuunnittelija Kaisa Palomäki<br>kaisa.palomaki(a)tampere.fi</p>
LOCATION:Teams
END:VEVENT
END:VCALENDAR