BEGIN:VCALENDAR
VERSION:2.0
PRODID:-//kirjastotfi/procal//NONSGML v1.0//EN
BEGIN:VEVENT
DTSTART:20250916T070000
DTEND:20250916T170000
SUMMARY:Kohteena Helsinki! Oppimisvierailu Eduskunnan ja Hämiksen kirjastoihin
DESCRIPTION:<p><strong>PiKen oppimisvierailujen syksy vuonna 2025 alkaa, tervetuloa yhteisten junien kyytiin Pirkanmaalta ja Keski-Suomesta Helsinkiin! Tutustumme yhden päivän aikana valtakunnallisesti eri tavoin kirjastoja palvelevaan Eduskunnan kirjastoon sekä asiakaslähtöisyyteen Hämäläis-Osakunnan kirjastossa.</strong></p><p><a href="https://www.eduskunta.fi/FI/naineduskuntatoimii/kirjasto/Sivut/default.aspx"><strong>Eduskunnan kirjasto</strong></a><strong> </strong>on avoin kaikille. Kirjasto palvelee verkossa ja paikan päällä eduskunnan lisäksi jokaista, joka tarvitsee tietoa eduskunnasta, oikeudesta tai yhteiskunnasta. Jokaisella kansalaisella on oikeus saada tietoa julkisista asiakirjoista ja tallenteista. Suurin osa kirjaston aineistosta on vapaasti lainattavissa ja peruspalvelumme ovat maksuttomia. <a href="https://www.eduskunta.fi/FI/naineduskuntatoimii/kirjasto/palvelut/Arkiston_palvelut">Eduskunnan arkisto</a>&nbsp;on osa Eduskunnan kirjastoa. Myös arkiston palvelut ovat kaikkien käytettävissä.</p><p><strong>Hämäläisten ylioppilassäätiön</strong>&nbsp;ylläpitämä&nbsp;<a href="https://hys.net/kirjasto/">Hämäläis-Osakunnan kirjasto</a> edistää Helsingin yliopiston eri tiedekuntien aine- ja perusopintokirjallisuuden saatavuutta osakuntansa jäsenille sekä opiskelijoiden yleistä lukuharrastusta. Kirjaston palveluihin kuuluu kirjallisuuden lisäksi lehtiä, lainattavia tarvikkeita, noin 300 niteen Hämeen maakuntakokoelma, varattavia tiloja ja lukusaleja. Kirjastolla on oma verkkokirjasto. Oppimisvierailumme kohteeseen peruuntui keväällä 2025, nyt vierailu järjestetään uudelleen.</p><h2><strong>Lisätiedot ja ilmoittautuminen</strong></h2><p><strong>Kohteena tuttu ja vieras Helsinki! Oppimisvierailu Eduskunnan ja Hämiksen kirjastoihin</strong><br><strong>Ti 16.9. klo 7.00–18.30</strong><br><strong>Oppimisvierailu Helsinkiin</strong></p><p>Mukaan mahtuu 20 kirjastolaista Pirkanmaan ja Keski-Suomen kirjastoista.&nbsp;<a href="https://elomake.tampere.fi/lomakkeet/30889/lomake.html">Pääset ilmoittautumaan vierailulle oheisella lomakkeella 12.8.2025 klo 16 mennessä</a>. Kehittämiskirjasto tilaa ja kustantaa yhteiskuljetukset, työnantaja kustantaa päivärahat. <a href="https://www.eduskunta.fi/FI/naineduskuntatoimii/vierailulle_eduskuntaan/Sivut/Usein-kysyttyja-kysymyksia-.aspx">Tutustu ohesta Eduskunnassa vierailun usein kysyttyihin kysymyksiin.</a></p><h2><strong>Ohjelma ja matkan aikataulu</strong></h2><p>Aikataulu on suuntaa-antava<em>. Reitti päivittyy tähän artikkeliin, etenee raideliikenteenä ja sisältää kävelyä.</em>&nbsp;Ajantasaiset tiedot löydät osoitteesta&nbsp;akepike.fi.</p><p>Klo 7.19 Lähtö Jyväskylän rautatieasemalta junalla (Hannikaisenkatu 20, 40100 Jyväskylä)</p><p>Klo 9.00 Lähtö Tampereelta rautatieasemalta&nbsp;junalla (Rautatienkatu 25, 33100 Tampere)</p><p>Klo 10.35–10.45 Siirtyminen Helsingin rautatieasemalta Tavastian yläkertaan (Urho Kekkosen katu 4-6 A)</p><p>Klo 10.45-11.45 Oppimisvierailu Hämäläis-Osakunnan kirjastoon (Urho Kekkosen katu 4-6 A)</p><p>Klo 11.45–12.45&nbsp;Lounas (omakustanteinen)</p><p>Klo 12.45–13.00 Siirtyminen Eduskunnan kirjastoon (sisäänkäynti Aurorankatu 6, 00102 Helsinki)</p><p>Klo 13.00–15.00 Oppimisvierailu Eduskunnan kirjastossa (Aurorankatu 6, 00102 Helsinki)</p><p>Klo 15.00–17.00 Siirtyminen takaisin Tampereelle (Rautatienkatu 25, 33100 Tampere) ja omien kuntien rautatieasemia.</p><p><em>Oppimisvierailun järjestää Tampereen kaupunginkirjasto. Tampereen kaupunginkirjastolla on alueellinen kehittämistehtävä Pirkanmaan ja Keski-Suomen alueella. Kuvat ja tunnelmat somessa, käytä tunnistetta: #akepike</em></p><h2><strong>Lisätiedot</strong></h2><p>Koordinaattori Juliaana Grahn<br>040 800 7828<br>juliaana.grahn(a)tampere.fi</p><p><em>Eduskunnan kirjaston lukusalin kuva: Hanne Salonen / Eduskunta</em></p>
LOCATION:Hämäläis-Osakunnan ja Eduskunnan kirjastot
END:VEVENT
END:VCALENDAR