BEGIN:VCALENDAR
VERSION:2.0
PRODID:-//kirjastotfi/procal//NONSGML v1.0//EN
BEGIN:VEVENT
DTSTART:20250826T090000
DTEND:20250826T150000
SUMMARY:Kirjastotiedon työkalut – PIKI-kirjastojen tilastotyöpaja
DESCRIPTION:<p><strong>Alueellinen&nbsp;tilastokatsaus&nbsp;saa jatkoa PiKe-kirjastoihin suuntautuvina Kirjastotiedon työkalut -lähikoulutuspäivinä Pirkanmaalla ja Keski-Suomessa!</strong> <strong>Ohjelman rakenteen osalta samansisältöisissä tilaisuuksissa käydään läpi oman kunnan kirjastotyön tukena hyödynnettäviä alueellisia ja kirjastojen käytössä olevia tilastoja.</strong></p><p>Tilaisuuden aamupäivän aikana PiKe-alueen omat osaajat <strong>Lepe Parviainen</strong> (Tampereen kaupunginkirjasto) ja <strong>Viljami Marjomäki</strong> (Jyväskylän kaupunginkirjasto) ohjaavat työskentelyä kirjastokimpassa käytettävissä olevien tilastojen ja raporttien hyödyntämiseksi kirjastopalvelujen suunnittelun ja kehittämisen tarpeisiin. Iltapäivän aikana tutustutaan <strong>Jaani Lahtisen</strong> (Gispositio Oy) johdolla kirjastojen raportointipalvelun käyttöön ja käydään läpi palvelun kehittämistä alueen kirjastojen tarpeisiin. Konsepti ylläpitää jatkumoa aluehallintoviraston kirjastotilastokatsaukseen ja tilaisuutta seuranneeseen PiKe-tilastokatsaukseen. Kirjastotiedon työkalut -konsepti tulee jatkumaan myös vuonna 2026.</p><h2><strong>Aika, paikka ja ilmoittautuminen</strong></h2><p><strong>Kirjastotiedon työkalut – PIKI-kirjastojen tilastotyöpaja</strong><br><strong>Ti 26.8.2025 klo 9.00–15.00</strong><br><strong>Oriveden kaupungintalon valtuustosali</strong></p><p><a href="https://elomake.tampere.fi/lomakkeet/31103/lomake.html">Ilmoittaudu mukaan oheisesta linkistä 12.8.2025 mennessä.</a></p><p>P.S. Tilaisuuteen pääsee orientoitumaan tallenteilla ja materiaaleilla tilaisuudesta <strong>Kirjastotiedon työkalut – Piken tilastokatsaus 6.5.2025</strong>:</p><ul><li><a href="https://youtu.be/sADistR8LcE">Tilaisuuden tallenne on katsottavissa ohesta vuoden 2025 loppuun.</a></li><li><a href="https://drive.google.com/drive/folders/141BbczUADcY4ls7oQi31Ls1kAOC1bXVn?usp=sharing">Esitysmateriaalit löytyvät ohesta.</a></li><li><a href="https://app.powerbi.com/view?r=eyJrIjoiNjc3NWFkNTctNTdlYy00Nzg1LWI4MTgtMGM5MzgyYzU4YjlmIiwidCI6ImZjMzRkMDVjLWEyZjItNGFjMi04OWM1LWI0NGYzYTlmNDUxYyIsImMiOjh9">Keski-kirjastojen PowerBI löytyy ohesta.</a></li></ul><h2><strong>Opiskelumateriaalit</strong></h2><p>Tilaisuuden materiaalit päivitetään oheen tilaisuuden jälkeen.</p><h2><strong>Ohjelma</strong></h2><p>9.00 – 9.30 Aamukahvit ja päivän ohjelman läpikäynti / <strong>Juliaana Grahn</strong>, koordinaattori (AKE Tampere, Pirkanmaa ja Keski-Suomi)</p><p>9.30 – 10.15 Kirjastotilastot käyttöön: Auroran tilastot / <strong>Lepe Parviainen</strong>, suunnittelija (Tampereen kaupunginkirjasto)</p><ul><li>Strategisen tason ymmärrys käytettävissä olevista tilastoista, tilastointia ohjaavista periaatteista ja keskeisistä mittareista</li><li>Kokoelma- ja lainaustilastot</li><li>Aurorasta ja OKM-tilastoista suoraan saatava tieto ja tietojen yhdisteleminen</li></ul><p>10.15 – 10.30 Tauko</p><p>10.30 – 11.30 Kirjastotilastot käyttöön jatkuu / <strong>Lepe Parviainen</strong>, suunnittelija (Tampereen kaupunginkirjasto)</p><ul><li>Räätälöitävät raportit, esimerkkinä Tilasto Plus</li><li>Asiakkuuteen liittyvät tilastot</li></ul><p>11.30 – 12.30 Lounas (omakustanteinen)</p><p>12.30 – 13.30 Raportointipalvelu: perusteet ja esittely / <strong>Jaani&nbsp;Lahtinen</strong>, tutkija (Gispositio Oy)</p><p>13.30&nbsp;– 13.45 Kahvitauko</p><p>13.45 – 14.45 Raportointipalvelu: käyttö paikallisesti ja kehittämismahdollisuudet erilaisten palveluympäristöjen tarpeisiin / <strong>Jaani&nbsp;Lahtinen</strong>, tutkija (Gispositio Oy)</p><p>14.45 – 15.00&nbsp; Lopetus, mitä opittiin? Kuinka kukin lähtee viemään hankittua osaamista eteenpäin? / <strong>Juliaana Grahn</strong>, koordinaattori (AKE Tampere, Pirkanmaa ja Keski-Suomi)</p><p><em>Tilaisuuden järjestää Tampereen kaupunginkirjasto. Tampereen kaupunginkirjastolla on alueellinen kehittämistehtävä Pirkanmaan ja Keski-Suomen alueella. Kuvat ja tunnelmat somessa, käytä tunnistetta: #akepike</em></p><h2><strong>Kysy lisää</strong></h2><p>Koordinaattori Juliaana Grahn<br>Puh. 040 800 7828 / S-posti: juliaana.grahn(a)tampere.fi</p>
LOCATION:Kaupungintalon valtuustosali
END:VEVENT
END:VCALENDAR