BEGIN:VCALENDAR
VERSION:2.0
PRODID:-//kirjastotfi/procal//NONSGML v1.0//EN
BEGIN:VEVENT
DTSTART:20251009T090000
DTEND:20251010T160000
SUMMARY:Kine 2025 Porissa
DESCRIPTION:<p>Kine 2025 Porissa – ilmoittautuminen on auki!</p><p>Kirjastonjohtajien neuvottelupäivät järjestetään syksyllä 2025 Porissa Satakunnan ammattikorkeakoulun kampuksella. Kinen ohjelma on nyt julkaistu ja ilmoittautuminen Kineen on avautunut!</p><p>Kinen keynote-puhujina ovat Johanna Vehkoo ja Perttu Pölönen, jotka puhuvat tekoälystä omista näkökulmistaan. Myös päättäjäviestintä, yhdistelmävirat ja erikoiskirjastot saavat omat puheenvuoronsa. Tervetuloa Poriin 9.-10.10.2025!</p><p>Kinen ohjelman, ilmoittautumisen ja muut tiedot löydät verkkosivuilta osoitteesta <a href="https://kine2025.pori.fi/">https://kine2025.pori.fi/</a>. Varaamme oikeuden ohjelmanmuutoksiin.&nbsp;</p><p>Lisätietoja: <a href="mailto:kine2025@pori.fi">kine2025@pori.fi</a>.&nbsp;<span>&nbsp;</span></p><p>Kinen 2025 järjestävät yhteistyössä Porin kaupunginkirjasto, Satakunnan ammattikorkeakoulun kirjasto, Turun kaupunginkirjaston alueellinen kehittämistehtävä ja Aluehallintovirasto.</p>
LOCATION:Satakunnan ammattikorkeakoulun kampus, Satakunnankatu 23, 28130 Pori
END:VEVENT
END:VCALENDAR